BEGIN:VCALENDAR
VERSION:2.0
PRODID:-//wp-events-plugin.com//7.2.3.1//EN
BEGIN:VEVENT
UID:133@breathelosangeles.us
DTSTART;TZID=America/Los_Angeles:20240420T100000
DTEND;TZID=America/Los_Angeles:20240420T160000
DTSTAMP:20240326T222219Z
URL:https://breathelosangeles.us/events/1-day-womens-wellness-retreat-in-l
 os-angeles/
SUMMARY:1-Day Women's Wellness Retreat in Los Angeles
DESCRIPTION:\n\n\n\n\n\n\n\n\n\n\n\n\nExperience THE ULTIMATE GLOW-UP! If y
 ou're new to our retreat\, indulge in a special $100 discount just for you
 !\n\nEvent Information:\n\nEvent Name: 1-Day Women's Wellness Retreat in L
 os Angeles\n\nHost: Glow Escapes by Pia Lamberg\n\nDate and Time: Saturday
 \, April 20 • 10:00 AM - 4:00 PM PDT\n\nAbout this Event: A day of welln
 ess and rejuvenation at our 1-day Women's Wellness Retreat in LA! Enjoy en
 ergizing workouts from body weight exercises to boxing basics/HIIT\, medit
 ation\, delicious food\, and poolside relaxation. Connect with like-minded
  women and prioritize your well-being!\n\nLimited to 20 ladies. New to our
  retreat? Enjoy a special $100 discount\, bringing the first-time attendee
  rate to only $75!\n\nTicket Information:\n\nFirst Time Attendees:\n\nPric
 e: $75.00 (Discounted from $175.00) + $6.88 Fee\n\nSales end on Apr 19\, 2
 024\n\nGeneral Admission:\n\nPrice: $175.00 + $13.58 Fee\n\nSales end on A
 pr 19\, 2024\n\nGET TICKETS\n\nWorkout Session Detail:\n\nWelcome Circle: 
 10:00 AM\n\nMeditation &amp\; Breathwork: 10:30 AM\n\nBooty Burn (Bodyweig
 ht Workout): 12:00 PM\n\nLunch: 12:30 PM\n\nBoxing Basics/HIIT: 2:00 PM\n\
 nMobility &amp\; Closing Circle: 3:00 PM\n\nRelax by the Pool or in the Ja
 cuzzi: 3:00 PM - 4:00 PM\n\nEssential for Bring:\n\nAll attendees will be 
 asked to read and sign a waiver and release of liability agreement before 
 entering the venue. Please review and sign the waiver beforehand to help s
 peed up the check-in process.\n\nLocation: 6462 W 85th Pl Los Angeles\, CA
  90045 United States\n\nRefund Policy: Contact the organizer to request a 
 refund. Eventbrite's fee is nonrefundable.\n\nAdditional Information:\n\nL
 unch is included.\n\nAll levels are welcome.\n\n&nbsp\;\n\nFor any inquiri
 es\, contact info@pialamberg.com.\n\n\n\n\n\n\n\n&nbsp\;\n\n\n\n\n\n\n\n\n
 \n\n\n\n\n\n\n\n\n\n\n\n\n\n
ATTACH;FMTTYPE=image/jpeg:https://breathelosangeles.us/wp-content/uploads/
 2024/03/https___cdn.evbuc_.com_images_726362969_965858309093_1_original.jp
 g
CATEGORIES:Wellness Events,Yoga Events
LOCATION:6462 W 85th Pl\, 6462 West 85th Place Los Angeles\, CA 90045 Unite
 d States\, CA\, United States\,  90045 \, CA \, United States
X-APPLE-STRUCTURED-LOCATION;VALUE=URI;X-ADDRESS=6462 West 85th Place Los An
 geles\, CA 90045 United States\, CA\, United States\,  90045 \, CA \, Unit
 ed States;X-APPLE-RADIUS=100;X-TITLE=6462 W 85th Pl:geo:0,0
END:VEVENT
BEGIN:VTIMEZONE
TZID:America/Los_Angeles
X-LIC-LOCATION:America/Los_Angeles
BEGIN:DAYLIGHT
DTSTART:20240310T030000
TZOFFSETFROM:-0800
TZOFFSETTO:-0700
TZNAME:PDT
END:DAYLIGHT
END:VTIMEZONE
END:VCALENDAR