BEGIN:VCALENDAR
VERSION:2.0
PRODID:-//wp-events-plugin.com//7.2.3.1//EN
BEGIN:VEVENT
UID:714@breathelosangeles.us
DTSTART;TZID=America/Los_Angeles;VALUE=DATE:20241019
DTEND;TZID=America/Los_Angeles;VALUE=DATE:20241020
DTSTAMP:20241015T085210Z
URL:https://breathelosangeles.us/events/18th-annual-evening-under-the-star
 s/
SUMMARY:18th Annual Evening Under the Stars
DESCRIPTION:The 18th Annual Evening Under the Stars promises to be an unfor
 gettable gathering\, uniting a diverse group of influential business leade
 rs\, community advocates\, philanthropists\, celebrities\, and elected off
 icials from across Los Angeles. This prestigious event serves as a powerfu
 l affirmation that children with disabilities deserve attention and suppor
 t.\n\nAs the organization celebrates its ongoing commitment to assisting t
 he hundreds of thousands of families and children affected by autism and o
 ther disabilities in Southern California\, the evening will honor exceptio
 nal leaders who have made a profound impact in the community. This year\, 
 attendees will have the pleasure of celebrating the launch of the Culinary
  Arts Workforce Development Program and the Special Flavours Food Truck En
 terprise. Proceeds from this event will directly fund these innovative ini
 tiatives\, aimed at providing meaningful job training and opportunities fo
 r individuals with special needs.\n\nGuests are invited to enjoy an evenin
 g filled with celebration\, dancing\, and community giving. Their particip
 ation will significantly impact the lives of those served by the organizat
 ion\, making every moment spent at the event worthwhile.\n\nMark the calen
 dar for this special occasion and prepare for a lively night dedicated to 
 a worthy cause. Attendees are encouraged to embrace the spirit of the even
 t by donning their favorite cowboy boots and denim\, adding a touch of spa
 rkle to their outfits for the ultimate Western-themed dance party.\n\nThe 
 evening will feature specialty whiskey cocktails\, mouthwatering chuck wag
 on cuisine\, professional line dancing instruction\, and lively "Texas Hol
 d’em" style music. It promises to be a night where guests can dance the 
 night away while supporting an important mission. Join in the celebration 
 and help make a difference in the lives of those in the community!\n\nGET 
 TICKETS\n
ATTACH;FMTTYPE=image/jpeg:https://breathelosangeles.us/wp-content/uploads/
 2024/10/18th-Annual-Evening-Under-the-Stars.jpg
CATEGORIES:Things To Do
LOCATION:Pasadena\, Pasadena Pasadena\, Los Angeles\, California\, CA\, Uni
 ted States
X-APPLE-STRUCTURED-LOCATION;VALUE=URI;X-ADDRESS=Pasadena Pasadena\, Los Ang
 eles\, California\, CA\, United States;X-APPLE-RADIUS=100;X-TITLE=Pasadena
 :geo:0,0
END:VEVENT
BEGIN:VTIMEZONE
TZID:America/Los_Angeles
X-LIC-LOCATION:America/Los_Angeles
BEGIN:DAYLIGHT
DTSTART:20240310T030000
TZOFFSETFROM:-0800
TZOFFSETTO:-0700
TZNAME:PDT
END:DAYLIGHT
END:VTIMEZONE
END:VCALENDAR