BEGIN:VCALENDAR
VERSION:2.0
PRODID:-//wp-events-plugin.com//7.2.3.1//EN
BEGIN:VEVENT
UID:921@breathelosangeles.us
DTSTART;TZID=America/Los_Angeles:20250303T110000
DTEND;TZID=America/Los_Angeles:20250303T170000
DTSTAMP:20250218T160824Z
URL:https://breathelosangeles.us/events/2-day-luxury-spa-soul-experience-w
 ith-overnight-stay-beverly-hills-ca-2/
SUMMARY:2 Day Luxury Spa & Soul Experience with Overnight Stay\, Beverly Hi
 lls\, CA
DESCRIPTION:\n\n\n\n\n\n\n\n\n\n\nIndulge in a rejuvenating luxury retreat 
 with Best Life-ing at the iconic Beverly Wilshire\, A Four Seasons Hotel i
 n Beverly Hills\, CA. Designed to refresh your mind\, body\, and spirit\, 
 this 2-day retreat offers a personalized wellness journey in an exquisite 
 setting.\nDuring your stay\, you'll experience four private\, 60-minute Be
 st Life-ing Wellness Sessions each day\, tailored to your unique needs and
  wellness goals. Choose from a variety of modalities such as private yoga\
 , hypnotherapy\, Reiki energy healing\, and guided meditation\, allowing f
 or a truly customized experience that promotes holistic healing.\nBefore t
 he retreat begins\, you will engage in a 60-minute pre-retreat alignment a
 nd discovery session with a Best Life-ing healer. This session sets the fo
 undation for your retreat by defining your itinerary\, setting your intent
 ions\, and preparing you for the transformative journey ahead. On your fir
 st day\, participate in an opening ceremony dedicated to intention setting
 \, and on the final day\, a closing ceremony will help integrate your expe
 riences and foster gratitude.\nThroughout your retreat\, you will have a d
 edicated wellness concierge at your service\, ensuring a smooth and enrich
 ing journey. They will provide guidance\, support\, and resources to help 
 you make the most of your time. In addition\, you'll receive a Best Life-i
 ng Gift Bag\, designed to support your wellness journey long after your re
 treat has ended.\nThese retreats are perfect for those looking to manage s
 tress\, reset life direction\, or address personal challenges. Whether you
 ’re seeking to unwind\, gain clarity\, or revitalize your energy\, this 
 luxury experience offers the perfect environment for lasting positive tran
 sformation.\nPricing:Retreats start at $1\,550++ per person per day. Add-o
 ns are available upon request.\nNote:Accommodation is not included in the 
 retreat package but can be arranged with local hotel partners upon request
 .\nAbout Best Life-ingBest Life-ing is a wellness-focused organization ded
 icated to helping individuals achieve their best lives through holistic re
 treats\, workshops\, and private sessions. With a team of expert healers a
 nd wellness practitioners\, they offer transformative experiences that fos
 ter personal growth\, healing\, and overall well-being. Best Life-ing emph
 asizes the power of community\, intention-setting\, and holistic wellness 
 to manifest lasting\, positive change.\nWhether you're seeking relaxation\
 , clarity\, or renewal\, Best Life-ing's retreats are tailored to support 
 your journey toward a more balanced and fulfilling life.\n\n\n\n\n\n\n\n\n
 \n\n\n\n\n\n\n\n\n\n\n\n\n\n\n\n\n\n\n\n\n\n\n\n\n\n\n\n\nGET TICKETS\n
ATTACH;FMTTYPE=image/jpeg:https://breathelosangeles.us/wp-content/uploads/
 2025/02/2-Day-Luxury-Spa-Soul-Experience-with-Overnight-Stay-Beverly-Hill-
 CA.avif
CATEGORIES:Wellness Events
LOCATION:Beverly Wilshire\, 9500 Wilshire Boulevard Beverly Hills\, Los Ang
 eles\, California\, 90212\, CA\, United States
X-APPLE-STRUCTURED-LOCATION;VALUE=URI;X-ADDRESS=9500 Wilshire Boulevard Bev
 erly Hills\, Los Angeles\, California\, 90212\, CA\, United States;X-APPLE
 -RADIUS=100;X-TITLE=Beverly Wilshire:geo:0,0
END:VEVENT
BEGIN:VTIMEZONE
TZID:America/Los_Angeles
X-LIC-LOCATION:America/Los_Angeles
BEGIN:STANDARD
DTSTART:20241103T010000
TZOFFSETFROM:-0700
TZOFFSETTO:-0800
TZNAME:PST
END:STANDARD
END:VTIMEZONE
END:VCALENDAR