BEGIN:VCALENDAR
VERSION:2.0
PRODID:-//wp-events-plugin.com//7.2.3.1//EN
BEGIN:VEVENT
UID:149@breathelosangeles.us
DTSTART;TZID=America/Los_Angeles:20240504T100000
DTEND;TZID=America/Los_Angeles:20240504T170000
DTSTAMP:20240909T123547Z
URL:https://breathelosangeles.us/events/200-hour-yoga-teacher-training/
SUMMARY:200 Hour Yoga Teacher Training
DESCRIPTION:Prepare yourself to embark on an enriching journey into the rea
 lm of yoga\, where you'll have the opportunity to become a certified teach
 er through our immersive 200 Hour Yoga Teacher Training program commencing
  in March\n\nEvent Information:\n\nEvent Name: 200 Hour Yoga Teacher Train
 ing\n\nHost: Anahata Yoga and Wellness/Tina Makris\n\nDate and Time: Satur
 day\, May 4 • 10am - 5pm PDT\n\nAbout this Event: Embark on a transforma
 tive journey into the world of yoga and gain certification as a teacher wi
 th our comprehensive 200 Hour Yoga Teacher Training program. Hosted by Ana
 hata Yoga and Wellness\, led by Tina Makris\, this training is designed to
  help you reach your fullest potential and undergo personal growth. Delve 
 into the study and understanding of classical Hatha Yoga with influences f
 rom renowned figures such as Krishnamacharya\, Swami Sivananda\, Iyengar\,
  Pattabhi Lois\, as well as elements of Yoga Therapy and Ayurveda.\n\nTick
 et Information:\n\n1 x General Admission: $3\,000.00\n\nRefund Policy: Con
 tact the organizer to request a refund. Eventbrite's fee is nonrefundable.
 \n\nWorkout Session Detail: This training spans 7 hours and is tailored fo
 r those aspiring to become yoga teachers\, deepen their practice\, or unde
 rgo personal growth. Participants will explore classical Hatha Yoga along 
 with influences from various renowned figures and disciplines in the field
  of yoga.\n\nEssential for Briang: Yoga attire\, water bottle\, yoga mat\,
  notebook\, pen\, open mind\, willingness to learn and grow.\n\nParking Op
 tion: Parking is available at the Yoga Sol Studio venue.\n\nLocation: Yoga
  Sol Studio\, 18306 Imperial Highway\, Yorba Linda\, CA 92886\, United Sta
 tes.\n\nTicket Price:\n\n1 x General Admission: $3\,000.00\n\nSubtotal: $3
 \,000.00\n\nFees: $203.06\n\nDelivery: 1 x eTicket $0.00\n\nTotal: $3\,203
 .06\n\nGET TICKETS\n
ATTACH;FMTTYPE=image/jpeg:https://breathelosangeles.us/wp-content/uploads/
 2024/03/OPOPOPOPOPOPOPOP.jpg
CATEGORIES:Wellness Events,Yoga Events
LOCATION:Yoga Sol Studio\,  18306 Imperial Highway  \, Yorba Linda\,\, Unit
 ed States\, 92886 \, CA \, United States
X-APPLE-STRUCTURED-LOCATION;VALUE=URI;X-ADDRESS= 18306 Imperial Highway  \,
  Yorba Linda\,\, United States\, 92886 \, CA \, United States;X-APPLE-RADI
 US=100;X-TITLE=Yoga Sol Studio:geo:0,0
END:VEVENT
BEGIN:VTIMEZONE
TZID:America/Los_Angeles
X-LIC-LOCATION:America/Los_Angeles
BEGIN:DAYLIGHT
DTSTART:20240310T030000
TZOFFSETFROM:-0800
TZOFFSETTO:-0700
TZNAME:PDT
END:DAYLIGHT
END:VTIMEZONE
END:VCALENDAR