BEGIN:VCALENDAR
VERSION:2.0
PRODID:-//wp-events-plugin.com//7.2.3.1//EN
BEGIN:VEVENT
UID:592@breathelosangeles.us
DTSTART;TZID=America/Los_Angeles:20241005T000000
DTEND;TZID=America/Los_Angeles:20241005T000000
DTSTAMP:20240929T151246Z
URL:https://breathelosangeles.us/events/305-dance-fitness-pop-up-series-sa
 turdays/
SUMMARY:305 Dance Fitness Pop-Up Series (Saturdays)
DESCRIPTION:Welcome to the vibrant world of 305 Dance Fitness\, where every
 one is welcomed into a judgment-free zone dedicated to cardio fun! This po
 p-up series is perfect for participants of all experience levels—no prio
 r dance background is necessary. The focus here is on inclusivity and havi
 ng a blast while getting your workout in.\n\nJoin the exhilarating 305 exp
 erience\, where movement meets music in a lively\, booty-shaking class tha
 t transforms traditional workouts into an unforgettable party atmosphere! 
 Under the guidance of expert instructors\, participants will engage in 45 
 minutes of non-stop action that promises to lift your spirits and energize
  your body.\n\nConcerned about your dancing skills? Don’t worry! The cho
 reography is designed to be simple and enjoyable\, prioritizing fun over p
 erfection. Think of the moves as more akin to what you’d find on the wed
 ding dance floor rather than a professional dance studio. If you can handl
 e basic moves like jumping jacks\, grapevines\, and booty shakes\, then yo
 u’re more than ready to join in on the 305 fun!\n\nCome experience the j
 oy of movement\, connect with others\, and feel your best in this lively f
 itness class. Get ready to dance\, sweat\, and smile!\n\nGET TICKETS\n
ATTACH;FMTTYPE=image/jpeg:https://breathelosangeles.us/wp-content/uploads/
 2024/09/305-Dance-Fitness-Pop-Up-Series-Saturdays.jpeg
CATEGORIES:Sports &amp; Fitness Events
LOCATION:The Industry Loft\, 755 Highland Avenue Los Angeles\, Los Angeles\
 , California\, 90038\, CA\, United States
X-APPLE-STRUCTURED-LOCATION;VALUE=URI;X-ADDRESS=755 Highland Avenue Los Ang
 eles\, Los Angeles\, California\, 90038\, CA\, United States;X-APPLE-RADIU
 S=100;X-TITLE=The Industry Loft:geo:0,0
END:VEVENT
BEGIN:VTIMEZONE
TZID:America/Los_Angeles
X-LIC-LOCATION:America/Los_Angeles
BEGIN:DAYLIGHT
DTSTART:20240310T030000
TZOFFSETFROM:-0800
TZOFFSETTO:-0700
TZNAME:PDT
END:DAYLIGHT
END:VTIMEZONE
END:VCALENDAR