BEGIN:VCALENDAR
VERSION:2.0
PRODID:-//wp-events-plugin.com//7.2.3.1//EN
BEGIN:VEVENT
UID:585@breathelosangeles.us
DTSTART;TZID=America/Los_Angeles:20241012T120000
DTEND;TZID=America/Los_Angeles:20241012T180000
DTSTAMP:20240929T131155Z
URL:https://breathelosangeles.us/events/3rd-annual-breast-cancer-community
 -health-fair/
SUMMARY:3rd Annual Breast Cancer Community Health Fair
DESCRIPTION:The Pink Ribbon United Foundation invites the community to its 
 3rd Annual Breast Cancer Community Health Fair\, an event dedicated to rai
 sing awareness and providing essential health services to uninsured women 
 and those at risk of breast cancer.\n\nIn the United States\, approximatel
 y 49% of women remain uninsured\, placing them at a higher risk of develop
 ing breast cancer without timely access to screenings and treatments. The 
 Pink Ribbon United Foundation is committed to bridging this gap by offerin
 g free pop-up events\, collaborations with healthcare providers\, and quar
 terly gatherings that create a supportive environment for breast cancer su
 rvivors\, patients\, and women at risk.\n\nJoin us for a FREE Community He
 alth Fair in honor of Breast Cancer Awareness!\n\nRegular health screening
 s are crucial for the early detection of diseases\, significantly improvin
 g treatment outcomes. Breast cancer\, in particular\, is far more treatabl
 e when caught in its early stages. Unfortunately\, many underserved commun
 ities\, especially those of color\, face higher risks and healthcare barri
 ers\, leading to delayed diagnoses and limited treatment options. This hea
 lth fair aims to combat these challenges by providing free screenings and 
 resources to those who need them most.\nWhat to Expect:\n\n 	Free Mammogra
 ms: Available to women aged 40 and above who haven’t had a screening in 
 the last year.\n 	Educational Resources: Learn about breast cancer prevent
 ion\, the importance of early detection\, and how regular screenings can s
 ave lives.\n 	Health Consultations: Speak with on-site healthcare professi
 onals who will review your results and provide personalized guidance.\n 	F
 ood and Entertainment: Enjoy meals from local vendors and fun activities s
 uitable for all ages.\n 	Support Services: Connect with local organization
 s offering support groups\, patient care resources\, and information about
  ongoing breast cancer awareness efforts.\n\nWho Should Attend:\n\n 	Women
  aged 40+ who have not had a mammogram in the past year.\n 	Individuals an
 d families interested in learning more about breast cancer\, health\, and 
 wellness.\n 	Community members who want to support efforts to increase bre
 ast cancer awareness and prevention.\n\nVENDORS WANTED! For more informati
 on\, contact Gwen Moseley at Damosslady@gmail.com or 323-216-3424.\n\nBe a
  part of this impactful event and help promote health and wellness in your
  community!\n\nGET TICKETS\n
ATTACH;FMTTYPE=image/jpeg:https://breathelosangeles.us/wp-content/uploads/
 2024/09/3rd-Annual-Breast-Cancer-Community-Health-Fair.jpeg
CATEGORIES:Wellness Events
LOCATION:767 California Ave\, 767 California Avenue\, Los Angeles\, Califor
 nia\, 90291\, CA\, United States
X-APPLE-STRUCTURED-LOCATION;VALUE=URI;X-ADDRESS=767 California Avenue\, Los
  Angeles\, California\, 90291\, CA\, United States;X-APPLE-RADIUS=100;X-TI
 TLE=767 California Ave:geo:0,0
END:VEVENT
BEGIN:VTIMEZONE
TZID:America/Los_Angeles
X-LIC-LOCATION:America/Los_Angeles
BEGIN:DAYLIGHT
DTSTART:20240310T030000
TZOFFSETFROM:-0800
TZOFFSETTO:-0700
TZNAME:PDT
END:DAYLIGHT
END:VTIMEZONE
END:VCALENDAR