BEGIN:VCALENDAR
VERSION:2.0
PRODID:-//wp-events-plugin.com//7.2.3.1//EN
BEGIN:VEVENT
UID:713@breathelosangeles.us
DTSTART;TZID=America/Los_Angeles:20241023T180000
DTEND;TZID=America/Los_Angeles:20241023T213000
DTSTAMP:20241015T073335Z
URL:https://breathelosangeles.us/events/48th-annual-distinguished-journali
 st-awards-banquet/
SUMMARY:48th Annual Distinguished Journalist Awards Banquet
DESCRIPTION:The 48th Annual Distinguished Journalist Awards Banquet\, hoste
 d by the Society of Professional Journalists\, Los Angeles chapter (SPJ/LA
 )\, is set to take place on Wednesday\, October 23\, 2024\, at 6:00 PM. Th
 is prestigious event will be held at the picturesque Castaway Restaurant i
 n Burbank.\n\nThis evening promises to be a remarkable celebration of exce
 llence in journalism\, where exceptional journalists will be honored for t
 heir significant contributions to the field. Attendees will have the oppor
 tunity to recognize the hard work\, dedication\, and passion that these pr
 ofessionals bring to their craft.\n\nAs colleagues and friends come togeth
 er\, the atmosphere will be filled with camaraderie and appreciation for t
 he vital role journalism plays in society. Guests can look forward to an e
 vening filled with inspiring stories\, networking opportunities\, and hear
 tfelt acknowledgments.\n\nDon’t miss this chance to be part of a memorab
 le occasion that not only celebrates individual achievements but also rein
 forces the commitment to journalistic integrity and excellence within the 
 industry. Mark your calendars and join in the festivities to honor the ver
 y best in journalism!\n\nGET TICKETS\n
ATTACH;FMTTYPE=image/jpeg:https://breathelosangeles.us/wp-content/uploads/
 2024/10/48th-Annual-Distinguished-Journalist-Awards-Banquet.jpg
CATEGORIES:Things To Do
LOCATION:Castaway Restaurant\, 1250 East Harvard Road Burbank\, Los Angeles
 \, California\, 91501\, CA\, United States
X-APPLE-STRUCTURED-LOCATION;VALUE=URI;X-ADDRESS=1250 East Harvard Road Burb
 ank\, Los Angeles\, California\, 91501\, CA\, United States;X-APPLE-RADIUS
 =100;X-TITLE=Castaway Restaurant:geo:0,0
END:VEVENT
BEGIN:VTIMEZONE
TZID:America/Los_Angeles
X-LIC-LOCATION:America/Los_Angeles
BEGIN:DAYLIGHT
DTSTART:20240310T030000
TZOFFSETFROM:-0800
TZOFFSETTO:-0700
TZNAME:PDT
END:DAYLIGHT
END:VTIMEZONE
END:VCALENDAR