BEGIN:VCALENDAR
VERSION:2.0
PRODID:-//wp-events-plugin.com//7.2.3.1//EN
BEGIN:VEVENT
UID:872@breathelosangeles.us
DTSTART;TZID=America/Los_Angeles:20250206T180000
DTEND;TZID=America/Los_Angeles:20250206T191500
DTSTAMP:20250202T151621Z
URL:https://breathelosangeles.us/events/6pm-vedic-yoga-meditation-3/
SUMMARY:6pm Vedic Yoga & Meditation
DESCRIPTION:Join the daily Vedic Yoga &amp\; Meditation sessions for a comp
 lete mind-body wellness experience. Each class combines Yoga Asanas (postu
 res)\, Pranayama (breathwork)\, and Dhyana (meditation)\, guided by Ashwin
  Kumar\, a Doctor of Ayurveda\, Yoga\, and Vedic Sciences. These sessions 
 are designed to help participants reconnect with their true selves\, achie
 ve balance\, and enhance overall health.\n\nWhether you’re new to yoga o
 r a seasoned practitioner\, all levels are welcome to attend and benefit. 
 The yoga practice includes 40 minutes of postures to stretch and tone the 
 body\, followed by breathwork to energize and focus the mind. Each session
  concludes with 45 minutes of silence to encourage meditation and internal
  peace.\n\nAfter the class\, there’s a chance for a Q&amp\;A session to 
 explore Ayurveda\, yoga\, and Vedic sciences\, where Ashwin Kumar answers 
 questions related to health and wellness from an Ayurvedic perspective.\n\
 nHeld in a peaceful space with plenty of free street parking\, these class
 es are an excellent way to rejuvenate your body and mind\, helping you ach
 ieve a deeper sense of balance\, flexibility\, and emotional stability.\n\
 nClass Pricing:\n\n 	$25 per class\n 	$99 for a 5-class pack\n 	$153 for u
 nlimited monthly access\n 	New members: 2 weeks for $49\n\nFor any questio
 ns\, contact Dr. Ashwin Kumar at 213-500-9337 or ashwin@ashwinayurveda.com
 .\n\nThis session is ideal for anyone seeking to experience the healing be
 nefits of Ayurveda and yoga.\n\nNote: Classes are open to both registered 
 and walk-in attendees.\n\n\n
ATTACH;FMTTYPE=image/jpeg:https://breathelosangeles.us/wp-content/uploads/
 2025/02/6pm-Vedic-Yoga-Meditation.jpg
CATEGORIES:Wellness Events
LOCATION:Ayurveda Yoga & Vedic Sciences College and Clinic\, 111 South Kenw
 ood Street Glendale\, Los Angeles\, CA\, 91205\, CA \, United States
X-APPLE-STRUCTURED-LOCATION;VALUE=URI;X-ADDRESS=111 South Kenwood Street Gl
 endale\, Los Angeles\, CA\, 91205\, CA \, United States;X-APPLE-RADIUS=100
 ;X-TITLE=Ayurveda Yoga & Vedic Sciences College and Clinic:geo:0,0
END:VEVENT
BEGIN:VTIMEZONE
TZID:America/Los_Angeles
X-LIC-LOCATION:America/Los_Angeles
BEGIN:STANDARD
DTSTART:20241103T010000
TZOFFSETFROM:-0700
TZOFFSETTO:-0800
TZNAME:PST
END:STANDARD
END:VTIMEZONE
END:VCALENDAR