BEGIN:VCALENDAR
VERSION:2.0
PRODID:-//wp-events-plugin.com//7.2.3.1//EN
BEGIN:VEVENT
UID:748@breathelosangeles.us
DTSTART;TZID=America/Los_Angeles:20241109T110000
DTEND;TZID=America/Los_Angeles:20241109T170000
DTSTAMP:20241016T171238Z
URL:https://breathelosangeles.us/events/a-day-of-renewal/
SUMMARY:A Day of Renewal
DESCRIPTION:Step into a serene space for "A Day of Renewal\," a transformat
 ive day retreat designed to refresh your mind\, body\, and spirit. This im
 mersive event offers a unique opportunity to pause from the daily grind an
 d prioritize self-care through a blend of relaxation\, creativity\, and mi
 ndfulness.\n\nParticipants will enjoy a harmonious balance of restorative 
 yoga sessions\, soothing sound bath meditation\, and journaling exercises\
 , all crafted to bring peace and clarity. The day will also feature nouris
 hing meals and snacks made with love to revitalize your body from the insi
 de out. Creative expression is encouraged\, with a herbal incense-making w
 orkshop that allows you to craft your own healing fragrances.\n\nAs you co
 nnect with like-minded souls in a tranquil environment\, the day will flow
  through a series of mindful activities\, culminating in a grounding closi
 ng ceremony to seal the day’s experiences.\n\nWhat to Expect:\n\n 	Welco
 ming and Opening Circle\n 	Journaling for Reflection and Clarity\n 	Yoga a
 nd Sound Bath Meditation for Deep Relaxation\n 	Nourishing\, Wholesome Mea
 ls and Snacks\n 	Herbal Incense Crafting Workshop\n 	Closing Ceremony to I
 ntegrate the Day's Journey\n\nWhether you're seeking physical rejuvenation
  or mental clarity\, this retreat offers a holistic reset. Come embrace th
 e peace\, recharge your energy\, and leave feeling renewed\, centered\, an
 d inspired. We look forward to sharing this day of care and connection wit
 h you!\n\nGET TICKETS\n
ATTACH;FMTTYPE=image/jpeg:https://breathelosangeles.us/wp-content/uploads/
 2024/10/A-Day-of-Renewal.jpg
CATEGORIES:Wellness Events
LOCATION:Encino\, Encino\, Los Angeles\, California\, 90021\, CA\, United S
 tates
X-APPLE-STRUCTURED-LOCATION;VALUE=URI;X-ADDRESS=Encino\, Los Angeles\, Cali
 fornia\, 90021\, CA\, United States;X-APPLE-RADIUS=100;X-TITLE=Encino:geo:
 0,0
END:VEVENT
BEGIN:VTIMEZONE
TZID:America/Los_Angeles
X-LIC-LOCATION:America/Los_Angeles
BEGIN:STANDARD
DTSTART:20241103T010000
TZOFFSETFROM:-0700
TZOFFSETTO:-0800
TZNAME:PST
END:STANDARD
END:VTIMEZONE
END:VCALENDAR