BEGIN:VCALENDAR
VERSION:2.0
PRODID:-//wp-events-plugin.com//7.2.3.1//EN
BEGIN:VEVENT
UID:300@breathelosangeles.us
DTSTART;TZID=America/Los_Angeles:20240623T183000
DTEND;TZID=America/Los_Angeles:20240623T200000
DTSTAMP:20240610T080841Z
URL:https://breathelosangeles.us/events/aftercare-sound-bath-for-pride/
SUMMARY:Aftercare Sound Bath for Pride
DESCRIPTION:\n\n\n\n\nJoin Jordan for a unique sound meditation experience 
 designed to help you relax and reset after the festivities of Pride month.
  Immerse yourself in the soothing vibrations of crystal bowls\, gongs\, ch
 imes\, and other healing instruments\, set in the welcoming ambiance of a 
 special dungeon space.\nExperience Healing Vibrations\n\n 	Relaxation and 
 Reset: Let the healing sounds guide you into a state of deep relaxation an
 d rejuvenation\, perfect for unwinding after the excitement of Pride celeb
 rations.\n 	Brainwave Stimulation: Slow your brainwaves and raise the freq
 uency of your body's energetic fields\, promoting a sense of calm and bala
 nce.\n 	Inclusive Community: This sound bath is open to all\, providing a 
 safe and welcoming space for queer\, trans\, and anyone in need of a reset
  or recharge.\n\nUnique Setting\n\n 	Exclusive Venue: Experience the only 
 sound bath held in a dungeon setting in the world. Whether you're a regula
 r attendee or stepping into the space for the first time\, you'll find com
 fort and healing in this low-key environment.\n 	Healing Atmosphere: Allow
  yourself to be transported to another realm as you relax in the cozy and 
 welcoming dungeon space.\n\nJoin the Experience\n\n 	Open Invitation: Whet
 her you're a seasoned sound bath enthusiast or new to the practice\, this 
 event is for anyone seeking relaxation and inner peace.\n 	Community Conne
 ction: Connect with like-minded individuals and unwind in the company of a
  beloved community. It's common to drift into a peaceful sleep during the 
 session – after all\, a sound bath is often referred to as "a fancy nap.
 "\n\nStep into a space of relaxation and rejuvenation as you unwind with t
 he healing vibrations of crystal bowls and other instruments. Whether you'
 re seeking solace after a month of Pride celebrations or simply in need of
  a reset\, this inclusive sound bath offers a unique opportunity to rest\,
  recharge\, and connect with a supportive community.\n\nDon't miss this ch
 ance to experience the soothing sounds in a truly special setting. Reserve
  your spot now and prepare to be transported to a realm of deep relaxation
  and inner peace.\n\nGET TICKETS\n\n\n\n\n
ATTACH;FMTTYPE=image/jpeg:https://breathelosangeles.us/wp-content/uploads/
 2024/06/Aftercare-Sound-Bath-for-Pride.jpg
CATEGORIES:Wellness Events
LOCATION:LADEStudios\, Alameda Los Angeles\, Los Angeles\, California\, 900
 21\, CA\, United States
X-APPLE-STRUCTURED-LOCATION;VALUE=URI;X-ADDRESS=Alameda Los Angeles\, Los A
 ngeles\, California\, 90021\, CA\, United States;X-APPLE-RADIUS=100;X-TITL
 E=LADEStudios:geo:0,0
END:VEVENT
BEGIN:VTIMEZONE
TZID:America/Los_Angeles
X-LIC-LOCATION:America/Los_Angeles
BEGIN:DAYLIGHT
DTSTART:20240310T030000
TZOFFSETFROM:-0800
TZOFFSETTO:-0700
TZNAME:PDT
END:DAYLIGHT
END:VTIMEZONE
END:VCALENDAR