BEGIN:VCALENDAR
VERSION:2.0
PRODID:-//wp-events-plugin.com//7.2.3.1//EN
BEGIN:VEVENT
UID:912@breathelosangeles.us
DTSTART;TZID=America/Los_Angeles:20250311T190000
DTEND;TZID=America/Los_Angeles:20250311T200000
DTSTAMP:20250218T122234Z
URL:https://breathelosangeles.us/events/align-your-vibes-meditation-with-d
 r-day-2/
SUMMARY:Align Your Vibes Meditation with Dr. Day
DESCRIPTION:Join Dr. Dayanara Thompson\, known as Dr. Day\, for a transform
 ative in-person experience that focuses on somatic alignment and emotional
  reset. Through a gentle combination of targeted stretches and somatic exe
 rcises\, Dr. Day will guide you in releasing physical tension and realigni
 ng your body\, bringing you back to a state of optimal health and well-bei
 ng.\nThis session delves deeply into the mind-body connection\, helping yo
 u understand how emotional blockages may manifest as physical discomfort. 
 Dr. Day will help you identify and release these emotional obstacles\, pro
 moting healing not only within your body but also within your emotional la
 ndscape. This experience is designed to restore balance\, bringing physica
 l relief and emotional clarity.\nWhether you're looking to:\n\n\n 	Relieve
  chronic pain\n 	Enhance flexibility\n 	Reset emotional imbalances\n 	Rest
 ore overall wellness\n\nThis session will help you achieve a deeper connec
 tion to your body\, mind\, and spirit. Dr. Day’s nurturing guidance will
  help you discover the transformative power of somatic alignment and emoti
 onal reset.\nWhat to Bring: While a few yoga mats are available\, particip
 ants are encouraged to bring their own mats for maximum comfort. Additiona
 l props such as blankets\, bolsters\, blocks\, and any other items you may
  need for support are also welcome. Please feel free to reach out if you h
 ave any questions about what to bring.\n\nAbout Dr. Day\nDr. Day’s journ
 ey into Holistic Wellness began at California State University\, East Bay\
 , where she studied physiology and health sciences. After working as an Em
 ergency Medical Technician in Oakland\, CA\, Dr. Day's passion for healing
  was tested when she experienced a life-changing accident that left her un
 able to use her left leg. This setback fueled her desire to explore variou
 s healing modalities\, blending spinal rehabilitation\, energy medicine (s
 uch as NET and Reiki)\, and chiropractic care.\nHer recovery and subsequen
 t transformation ignited a deep passion for helping others\, leading her t
 o become a chiropractor. Today\, Dr. Day integrates manual care\, somatic 
 release\, yogic healing\, energy medicine\, sonic healing\, and more into 
 her practice\, guiding her patients toward their own profound transformati
 ons. With her calm\, attentive approach\, she fosters a healing environmen
 t where individuals can experience emotional\, physical\, and spiritual re
 juvenation.\nLet Dr. Day help you realign your body\, reset your emotions\
 , and begin your journey toward greater wellness and balance.\n\n\nGET TIC
 KETS\n
ATTACH;FMTTYPE=image/jpeg:https://breathelosangeles.us/wp-content/uploads/
 2025/02/Align-Your-Vibes-Meditation-with-Dr.-Day.avif
CATEGORIES:Wellness Events
LOCATION:Align Your Vibes - Studio City\, 12457 Ventura Boulevard Unit 104\
 , Los Angeles\, California\, 91604\, CA \, United States
X-APPLE-STRUCTURED-LOCATION;VALUE=URI;X-ADDRESS=12457 Ventura Boulevard Uni
 t 104\, Los Angeles\, California\, 91604\, CA \, United States;X-APPLE-RAD
 IUS=100;X-TITLE=Align Your Vibes - Studio City:geo:0,0
END:VEVENT
BEGIN:VTIMEZONE
TZID:America/Los_Angeles
X-LIC-LOCATION:America/Los_Angeles
BEGIN:DAYLIGHT
DTSTART:20250309T030000
TZOFFSETFROM:-0800
TZOFFSETTO:-0700
TZNAME:PDT
END:DAYLIGHT
END:VTIMEZONE
END:VCALENDAR