BEGIN:VCALENDAR
VERSION:2.0
PRODID:-//wp-events-plugin.com//7.2.3.1//EN
BEGIN:VEVENT
UID:538@breathelosangeles.us
DTSTART;TZID=America/Los_Angeles;VALUE=DATE:20241012
DTEND;TZID=America/Los_Angeles;VALUE=DATE:20241013
DTSTAMP:20240925T164103Z
URL:https://breathelosangeles.us/events/altered-states-of-consciousness-in
 tegration-through-bilateral-stimulation/
SUMMARY:Altered States of Consciousness : Integration through Bilateral Sti
 mulation
DESCRIPTION:Join Brittany Bueno and Ynes Mon for an immersive workshop\, 
 “Altered States of Consciousness: Integration Through Bilateral Stimulat
 ion.” This event\, held in the PRS Lecture Room\, is designed to guide p
 articipants through the integration process of altered states of conscious
 ness (ASC) using bilateral stimulation techniques\, which help regulate th
 e nervous system and promote deeper psychological processing. Attendees wi
 ll learn how the synchronization of the brain’s hemispheres through bila
 teral stimulation can enhance well-being and mental clarity.\n\nWhat You'l
 l Experience This workshop provides hands-on learning and exploration of v
 arious bilateral sensory practices that aid in integrating ASC experiences
 . Techniques such as auditory binaural stimulation will be featured\, with
  a live demonstration led by Ynes Mon\, enhancing your sensory experience 
 through sound and visual deprivation.\n\nTakeaways Participants will leave
  with personalized tools and resources\, including:\n\n 	A guidebook fille
 d during the workshop for continued use in integrating ASC experiences.\n 
 	An eye mask to assist with inward-focused sensory experiences.\n 	Resourc
 es for ongoing bilateral stimulation practices to maintain nervous system 
 regulation and mental health benefits.\n\nImportant Notes\n\n 	No psychoac
 tive substances are involved in this workshop. The focus is purely on the 
 integration process through mental and sensory techniques.\n 	Please bring
  a mat or blanket\, a writing utensil\, and optionally\, a pillow for comf
 ort.\n 	Capacity is limited to 25 attendees\, so be sure to RSVP ahead of 
 time.\n\nTimeline\n\n 	2:00-2:30 pm: Arrival\, exploring the library\, set
 tling in.\n 	2:30-3:00 pm: Introduction and lecture on ASC and integration
  techniques.\n 	3:00-3:10 pm: Break\, passing out headsets.\n 	3:10-3:40 p
 m: Bilateral auditory stimulation demonstration.\n 	3:40-4:00 pm: Reflecti
 on\, discussion\, and Q&amp\;A.\n\nBio of Facilitators\n\n 	Brittany Bueno
 : A Los Angeles-based psychotherapist specializing in ketamine-assisted th
 erapy and psychedelic integration\, Brittany also uses EMDR and sound ther
 apy to help clients process trauma.\n 	Ynes Mon (Collin Davis): An experim
 ental music producer and audio engineer\, Ynes blends acoustic instruments
  and field recordings to create binaural soundscapes that support ASC expe
 riences.\n\nEvent Details\n\n 	Date: [Event Date]\n 	Location: PRS Lecture
  Room\, 3910 Los Feliz Blvd\, Los Angeles\, CA 90027\n 	Ticket Price: $25 
 (limited to 25 attendees)\n 	Contact: events@prs.org or 323-663-2167 for q
 uestions.\n\nPolicies\n\n 	All sales are final\, except for medical emerge
 ncies.\n 	PRS encourages mask-wearing for public safety.\n 	Accessibility 
 accommodations are available upon request.\n\nDon't miss this opportunity 
 to deepen your understanding of ASC and explore innovative bilateral stimu
 lation techniques in a supportive\, guided environment!\n\nGET TICKETS\n
ATTACH;FMTTYPE=image/jpeg:https://breathelosangeles.us/wp-content/uploads/
 2024/09/Altered-States-of-Consciousness-Integration-through-Bilateral-Stim
 ulation.jpg
CATEGORIES:Wellness Events
LOCATION:Philosophical Research Society\, 3910 Los Feliz Boulevard\, Los An
 geles\, California\, 90027\, CA\, United States
X-APPLE-STRUCTURED-LOCATION;VALUE=URI;X-ADDRESS=3910 Los Feliz Boulevard\, 
 Los Angeles\, California\, 90027\, CA\, United States;X-APPLE-RADIUS=100;X
 -TITLE=Philosophical Research Society:geo:0,0
END:VEVENT
BEGIN:VTIMEZONE
TZID:America/Los_Angeles
X-LIC-LOCATION:America/Los_Angeles
BEGIN:DAYLIGHT
DTSTART:20240310T030000
TZOFFSETFROM:-0800
TZOFFSETTO:-0700
TZNAME:PDT
END:DAYLIGHT
END:VTIMEZONE
END:VCALENDAR