BEGIN:VCALENDAR
VERSION:2.0
PRODID:-//wp-events-plugin.com//7.2.3.1//EN
BEGIN:VEVENT
UID:889@breathelosangeles.us
DTSTART;TZID=America/Los_Angeles:20250222T170000
DTEND;TZID=America/Los_Angeles:20250222T213000
DTSTAMP:20250212T171421Z
URL:https://breathelosangeles.us/events/alumnigan-again-reunion/
SUMMARY:ALUMNIgan... again Reunion
DESCRIPTION:ALUMNIgan… Again: A HOOLIGAN Theatre Company Reunion\n\nCeleb
 rating 20 Years of HOOLIGAN Theatre Company\nJoin HOOLIGAN Theatre Company
  for an extraordinary reunion event\, marking two decades of creativity\, 
 camaraderie\, and unforgettable performances. This special evening brings 
 together alumni for a joyful celebration filled with food\, drinks\, live 
 entertainment\, and opportunities to take the stage once more. Reconnect\,
  reminisce\, and relive the magic of HOOLIGAN Theatre with fellow alumni a
 s we honor the legacy that shaped us and support the future of this incred
 ible organization.\nEvent Highlights\n✨ Food &amp\; Drinks: Enjoy a deli
 ghtful spread of food and beverages throughout the night.\n🎭 Take the S
 tage: Alumni can purchase an additional performance ticket to sing\, act\,
  or perform a favorite number—solo or with friends!\n💛 Support the Fu
 ture: Contribute to HOOLIGAN’s 20th anniversary season and beyond throug
 h donations\, auction items\, and sponsorships.\nTickets &amp\; Registrati
 on\nSecure your spot by purchasing an Alumni Ticket\, which includes:\n\n 
 	Food and drinks\n 	Live performances accompanied by Jonny Perl\n 	A direc
 t contribution to the continued success of HOOLIGAN Theatre Company\n\n
 🎟 Young Alumni Discount: A special allocation of tickets is available f
 or alumni who graduated between 2020-2024—but act fast\, as space is lim
 ited!\n\n🎭 Performance Add-On: Want to relive the thrill of being on st
 age? Purchase an add-on performance ticket to secure your moment in the sp
 otlight. Unsure of what to perform? Reserve a spot now\, and HOOLIGAN will
  assist in coordinating your performance.\n\n💌 Financial Assistance Ava
 ilable: If ticket cost is a concern\, please reach out to alumnigan@hoolig
 antheatre.org—we’re happy to work with you to make participation possi
 ble.\nCan’t Attend? Support HOOLIGAN Anyway!\nIf you can’t make it to 
 the event but still want to support HOOLIGAN Theatre Company’s mission\,
  consider making a donation via HOOLIGAN’s GoFundMe. Additional ways to 
 support include:\n\n 	Donating an item or service to the event’s auction
 \n 	Sponsoring a Signature Cocktail at the event\n 	Purchasing a performan
 ce slot for a fellow alumnus\n\nFor more information on donations\, sponso
 rships\, or participation\, contact alumnigan@hooligantheatre.org.\nCelebr
 ate\, Perform &amp\; Give Back!\nThis reunion is more than just a gatherin
 g—it’s a chance to reignite old friendships\, relive treasured moments
 \, and ensure the future of HOOLIGAN Theatre Company remains bright. We ca
 n’t wait to welcome you back!\n\nGET TICKETS\n
ATTACH;FMTTYPE=image/jpeg:https://breathelosangeles.us/wp-content/uploads/
 2025/02/ALUMNIgan.jpeg
CATEGORIES:Wellness Events
LOCATION:James West Alumni Center\, 325 Westwood \, Los Angeles\, Californi
 a\, 90095 \, CA\, United States
X-APPLE-STRUCTURED-LOCATION;VALUE=URI;X-ADDRESS=325 Westwood \, Los Angeles
 \, California\, 90095 \, CA\, United States;X-APPLE-RADIUS=100;X-TITLE=Jam
 es West Alumni Center:geo:0,0
END:VEVENT
BEGIN:VTIMEZONE
TZID:America/Los_Angeles
X-LIC-LOCATION:America/Los_Angeles
BEGIN:STANDARD
DTSTART:20241103T010000
TZOFFSETFROM:-0700
TZOFFSETTO:-0800
TZNAME:PST
END:STANDARD
END:VTIMEZONE
END:VCALENDAR