BEGIN:VCALENDAR
VERSION:2.0
PRODID:-//wp-events-plugin.com//7.2.3.1//EN
BEGIN:VEVENT
UID:462@breathelosangeles.us
DTSTART;TZID=America/Los_Angeles:20240915T160000
DTEND;TZID=America/Los_Angeles:20240915T180000
DTSTAMP:20240907T033336Z
URL:https://breathelosangeles.us/events/always-home-womens-wellness-event/
SUMMARY:Always Home Women's Wellness Event
DESCRIPTION:Welcome to the Always Home Women's Wellness Event\, where an ev
 ening of relaxation and personal growth awaits you at Najwa's Mediterranea
 n Cuisine.\n\nEvent Highlights:\n\n 	Gourmet Dining Experience: Delight in
  a beautifully plated meal that combines Mediterranean flavors with a nour
 ishing touch.\n 	Interactive Wellness Workshop: Explore a faith-based appr
 oach to holistic health. This workshop will guide you through a transforma
 tive 3-step method designed to help you identify your unique path to well-
 being. Learn how to realign with your natural rhythm and embrace your pers
 onalized growth journey.\n 	Confidence in the Kitchen Cooking Demo: Enhanc
 e your culinary skills with a live cooking demonstration that will empower
  you to cook with confidence and creativity.\n 	Complimentary Cookbook: Re
 ceive a free cookbook featuring over 100 delicious and healthy recipes to 
 inspire your home cooking.\n\nFor those who may have childcare concerns\, 
 please reach out to us. We are committed to exploring options for a kids
 ’ program to ensure that mothers can fully engage in the wellness activi
 ties while their children are entertained.\n\nJoin us for an enriching eve
 ning that combines excellent food\, insightful workshops\, and practical s
 kills to elevate your wellness journey.\n\nGET TICKETS\n
ATTACH;FMTTYPE=image/jpeg:https://breathelosangeles.us/wp-content/uploads/
 2024/09/Always-Home-Womens-Wellness-Event.jpg
CATEGORIES:Food &amp; Drink Events,Mindfulness Events,Things To
 Do,Wellness Events
LOCATION:Najwa's Mediterranean Cuisine\, 11275 Mountain View Avenue #D Loma
  Linda\, Los Angeles\, California\, 92354\, CA\, United States
X-APPLE-STRUCTURED-LOCATION;VALUE=URI;X-ADDRESS=11275 Mountain View Avenue 
 #D Loma Linda\, Los Angeles\, California\, 92354\, CA\, United States;X-AP
 PLE-RADIUS=100;X-TITLE=Najwa's Mediterranean Cuisine:geo:0,0
END:VEVENT
BEGIN:VTIMEZONE
TZID:America/Los_Angeles
X-LIC-LOCATION:America/Los_Angeles
BEGIN:DAYLIGHT
DTSTART:20240310T030000
TZOFFSETFROM:-0800
TZOFFSETTO:-0700
TZNAME:PDT
END:DAYLIGHT
END:VTIMEZONE
END:VCALENDAR