BEGIN:VCALENDAR
VERSION:2.0
PRODID:-//wp-events-plugin.com//7.2.3.1//EN
BEGIN:VEVENT
UID:847@breathelosangeles.us
DTSTART;TZID=America/Los_Angeles;VALUE=DATE:20241212
DTEND;TZID=America/Los_Angeles;VALUE=DATE:20241223
DTSTAMP:20241208T132722Z
URL:https://breathelosangeles.us/events/american-ballet-theatres-the-nutcr
 acker/
SUMMARY:American Ballet Theatre’s ‘The Nutcracker’
DESCRIPTION:This holiday season\, the American Ballet Theatre (ABT) makes i
 ts grand return to Southern California\, bringing with it a breathtaking p
 roduction of the cherished holiday classic\, The Nutcracker. Known for its
  dazzling artistry and emotional storytelling\, this rendition of the belo
 ved ballet promises to transport audiences to a world of festive magic and
  wonder.\nA Spectacle of Grandeur and Elegance\nPrepare to be awed by larg
 er-than-life scenery\, a magnificent Christmas tree that grows before your
  eyes\, and meticulously crafted sets and costumes. These visual delights 
 are the creations of Tony Award-winning designer Richard Hudson\, the visi
 onary behind the spectacular stage design for The Lion King. Every element
  of the production has been thoughtfully designed to immerse viewers in th
 e enchanting tale of Clara\, her Nutcracker Prince\, and their fantastical
  journey through the Land of Sweets.\nLive Music by the Pacific Symphony\n
 Elevating the experience further\, the renowned Pacific Symphony will perf
 orm Tchaikovsky’s iconic score live\, filling the theater with lush\, ev
 ocative melodies that have become synonymous with the holiday season. The 
 music breathes life into every pirouette\, leap\, and waltz\, making this 
 performance a feast for both the eyes and ears.\nA Timeless Holiday Tradit
 ion\nPerfect for audiences of all ages\, ABT’s The Nutcracker is more th
 an a ballet\; it’s a celebration of holiday spirit\, artistic excellence
 \, and family traditions. Whether it’s your first time experiencing the 
 magic or a cherished annual tradition\, this production is a must-see for 
 anyone looking to embrace the joy and wonder of the season.\nAn Unmissable
  Event\nDon’t miss your chance to witness the magic of one of the world
 ’s premier ballet companies performing a timeless masterpiece. American 
 Ballet Theatre’s The Nutcracker is a true gift of the season—an evenin
 g of unparalleled beauty and artistry that will leave you spellbound and i
 nspired.\n\nReserve your tickets now and step into a world of sugarplum fa
 iries\, twinkling lights\, and holiday magic!\n\nGET TICKETS\n
ATTACH;FMTTYPE=image/jpeg:https://breathelosangeles.us/wp-content/uploads/
 2024/12/American-Ballet-Theatres-‘The-Nutcracker.webp
CATEGORIES:Things To Do
LOCATION:Segerstrom Center for the Arts\, 600 Town Center Drive\, Costa Mes
 a\, San Francisco\, California\, 92626\, CA\, United States
X-APPLE-STRUCTURED-LOCATION;VALUE=URI;X-ADDRESS=600 Town Center Drive\, Cos
 ta Mesa\, San Francisco\, California\, 92626\, CA\, United States;X-APPLE-
 RADIUS=100;X-TITLE=Segerstrom Center for the Arts:geo:0,0
END:VEVENT
BEGIN:VTIMEZONE
TZID:America/Los_Angeles
X-LIC-LOCATION:America/Los_Angeles
BEGIN:STANDARD
DTSTART:20241103T010000
TZOFFSETFROM:-0700
TZOFFSETTO:-0800
TZNAME:PST
END:STANDARD
END:VTIMEZONE
END:VCALENDAR