BEGIN:VCALENDAR
VERSION:2.0
PRODID:-//wp-events-plugin.com//7.2.3.1//EN
BEGIN:VEVENT
UID:919@breathelosangeles.us
DTSTART;TZID=America/Los_Angeles:20250305T090000
DTEND;TZID=America/Los_Angeles:20250305T170000
DTSTAMP:20250218T155034Z
URL:https://breathelosangeles.us/events/anger-management-1-day-workshop-in
 -pasadena-ca/
SUMMARY:Anger Management 1 Day Workshop in Pasadena\, CA
DESCRIPTION:The Anger Management 1-Day Workshop is a structured in-person t
 raining session designed to equip participants with practical techniques t
 o manage and channel their anger constructively. This intensive program of
 fers valuable insights into emotional regulation\, effective communication
 \, and conflict resolution\, making it ideal for individuals looking to en
 hance their interpersonal skills and emotional intelligence.\n\nWorkshop D
 etails:\n\n 	Location: Pasadena\, CA\n 	Duration: 1 Day | Credits: 8 PDUs\
 n 	Language: English\n 	Certificate: Course Completion Certificate\n 	Deli
 very Format: Classroom-based (includes food and beverages)\n\nCourse Overv
 iew:\nAnger is a natural emotion that\, if left unchecked\, can negatively
  impact mental and physical well-being. However\, when managed properly\, 
 it can serve as a catalyst for personal growth and boundary setting. This 
 comprehensive training session focuses on understanding\, controlling\, an
 d utilizing anger as a constructive force. Through engaging activities\, s
 elf-reflection exercises\, and evidence-based strategies\, participants wi
 ll gain valuable tools to manage their anger effectively while also learni
 ng how to handle anger in others.\nWho Should Attend?\nThis workshop is op
 en to anyone interested in developing anger management skills\, including 
 professionals\, team leaders\, customer service representatives\, and indi
 viduals seeking personal growth in emotional regulation.\nKey Learning Out
 comes:\nBy the end of this training\, participants will:\n\n 	Develop both
  the mindset and skill set necessary for effective anger management.\n 	Le
 arn how to express anger assertively while considering the emotions and ne
 eds of others.\n 	Differentiate between constructive and destructive anger
  and adopt a positive approach to emotional regulation.\n 	Implement pract
 ical techniques to manage and de-escalate anger in others.\n\nWorkshop Age
 nda:\n\n 	Understanding the Anatomy of Anger\n 	Developing the Anger Manag
 ement Skill Set\n 	Implementing the Anger Management Process\n 	Strategies
  for Managing Anger in Others\n\nCourse Materials &amp\; Technical Require
 ments:\nParticipants will receive a course manual containing presentation 
 slides and reference materials. For those opting for eBooks\, the followin
 g requirements apply:\n\n 	Internet access for downloading materials.\n 	C
 ompatible devices: Laptop\, tablet\, smartphone\, or eReader (excluding Ki
 ndle).\n 	Software support: Adobe DRM-supported applications such as Digit
 al Editions or Bluefire Reader.\n\nBenefits of Attending the Anger Managem
 ent Workshop:\nEnhanced Communication &amp\; Team Dynamics\n\n 	Strengthen
 s interpersonal skills by fostering effective communication and conflict r
 esolution.\n 	Reduces workplace stress and cultivates a more harmonious an
 d productive work culture.\n\nDevelopment of Emotional Intelligence\n\n 	H
 elps participants recognize\, understand\, and regulate their emotions mor
 e effectively.\n 	Encourages greater self-awareness and empathy\, leading 
 to improved professional and personal relationships.\n\nIncreased Workplac
 e Productivity &amp\; Morale\n\n 	Minimizes time lost due to workplace con
 flicts and misunderstandings.\n 	Creates a supportive environment where em
 ployees feel valued and motivated.\n\nCost Savings in Conflict Resolution\
 n\n 	Reduces the need for external mediators or legal intervention due to 
 unresolved disputes.\n 	Saves organizational resources by mitigating poten
 tial risks tied to workplace anger and aggression.\n\nStronger Leadership 
 &amp\; Management Skills\n\n 	Equips managers with strategies to de-escala
 te tension and handle workplace conflicts effectively.\n 	Fosters a leader
 ship culture that prioritizes emotional well-being and constructive feedba
 ck.\n\nRegulatory Compliance &amp\; Risk Mitigation\n\n 	Promotes a safer 
 and more respectful workplace in line with health and safety regulations.\
 n 	Helps organizations mitigate legal risks associated with workplace conf
 licts and aggression.\n\nImproved Customer Relations &amp\; Employee Reten
 tion\n\n 	Employees trained in anger management are better equipped to han
 dle difficult customer interactions calmly and professionally.\n 	Contribu
 tes to higher job satisfaction\, reduced stress levels\, and lower employe
 e turnover rates.\n\nCorporate &amp\; Group Training Opportunities\nFor or
 ganizations interested in hosting an on-site session\, inquiries can be di
 rected to corporate@mangates.com.\n\nJoin this transformative 1-day worksh
 op to cultivate emotional intelligence\, improve interpersonal skills\, an
 d harness the power of anger for personal and professional success.\n\nGET
  TICKETS\n
ATTACH;FMTTYPE=image/jpeg:https://breathelosangeles.us/wp-content/uploads/
 2025/02/Anger-Management-1-Day-Workshop-in-Pasadena-CA.avif
CATEGORIES:Wellness Events
LOCATION:reach us at info@mangates.com or call us at +1 469 666 9332\, Pasa
 dena Pasadena\, Los Angeles\, California\, 90018\, CA\, United States
X-APPLE-STRUCTURED-LOCATION;VALUE=URI;X-ADDRESS=Pasadena Pasadena\, Los Ang
 eles\, California\, 90018\, CA\, United States;X-APPLE-RADIUS=100;X-TITLE=
 reach us at info@mangates.com or call us at +1 469 666 9332:geo:0,0
END:VEVENT
BEGIN:VTIMEZONE
TZID:America/Los_Angeles
X-LIC-LOCATION:America/Los_Angeles
BEGIN:STANDARD
DTSTART:20241103T010000
TZOFFSETFROM:-0700
TZOFFSETTO:-0800
TZNAME:PST
END:STANDARD
END:VTIMEZONE
END:VCALENDAR