BEGIN:VCALENDAR
VERSION:2.0
PRODID:-//wp-events-plugin.com//7.2.3.1//EN
BEGIN:VEVENT
UID:285@breathelosangeles.us
DTSTART;TZID=America/Los_Angeles:20240606T130000
DTEND;TZID=America/Los_Angeles:20240606T160000
DTSTAMP:20240522T044047Z
URL:https://breathelosangeles.us/events/annual-grand-art-critique/
SUMMARY:Annual Grand Art Critique
DESCRIPTION:Calling all art enthusiasts\, collectors\, and curious minds! T
 he Annual Grand Art Critique offers a splendid opportunity to delve into t
 he intricacies of fine art and gain valuable insights into what makes a ma
 sterpiece truly exceptional.\nA Learning Experience\nHosted by a panel of 
 esteemed CAC Signature Artists\, including Jennifer Moses\, Robin Hall\, M
 ichael Obermeyer\, and Peter Adams\, this event promises an enlightening j
 ourney into the world of art critique. Participants will have the chance t
 o observe as the panel reviews anonymously submitted artworks by fellow CA
 C artists\, providing constructive feedback aimed at fostering growth and 
 improvement.\nInsightful Discussions\nThrough the lens of experienced arti
 sts\, attendees will gain a deeper understanding of the elements that cont
 ribute to the success of a piece of art. From composition and technique to
  concept and execution\, each artwork will be carefully analyzed and discu
 ssed\, offering invaluable lessons for artists and art enthusiasts alike.\
 nInteractive Viewing\nThe artworks will be displayed on a large screen\, a
 llowing for detailed examination and discussion. Attendees will have the o
 pportunity to witness firsthand the diverse styles and approaches employed
  by fellow artists within the CAC community.\nNetworking and Refreshments\
 nIn addition to the enlightening critique sessions\, participants can enjo
 y networking opportunities with fellow art enthusiasts and creators. Refre
 shments will be served\, providing a relaxed atmosphere for engaging conve
 rsations and artistic camaraderie.\nJoin the Conversation\nWhether you're 
 an aspiring artist seeking feedback on your work or simply passionate abou
 t the world of art\, the Annual Grand Art Critique is an event not to be m
 issed. Expand your artistic horizons\, gain valuable insights\, and more.\
 n\nGET TICKETS\n
ATTACH;FMTTYPE=image/jpeg:https://breathelosangeles.us/wp-content/uploads/
 2024/05/Annual-Grand-Art-Critique.jpg
LOCATION:The Maxwell House\, 55 South Grand Avenue Pasadena\, Los Angeles\,
  CA\, 91105\, LA\, United States
X-APPLE-STRUCTURED-LOCATION;VALUE=URI;X-ADDRESS=55 South Grand Avenue Pasad
 ena\, Los Angeles\, CA\, 91105\, LA\, United States;X-APPLE-RADIUS=100;X-T
 ITLE=The Maxwell House:geo:0,0
END:VEVENT
BEGIN:VTIMEZONE
TZID:America/Los_Angeles
X-LIC-LOCATION:America/Los_Angeles
BEGIN:DAYLIGHT
DTSTART:20240310T030000
TZOFFSETFROM:-0800
TZOFFSETTO:-0700
TZNAME:PDT
END:DAYLIGHT
END:VTIMEZONE
END:VCALENDAR