BEGIN:VCALENDAR
VERSION:2.0
PRODID:-//wp-events-plugin.com//7.2.3.1//EN
BEGIN:VEVENT
UID:528@breathelosangeles.us
DTSTART;TZID=America/Los_Angeles:20240928T123000
DTEND;TZID=America/Los_Angeles:20240928T140000
DTSTAMP:20240918T084549Z
URL:https://breathelosangeles.us/events/ask-a-health-coach/
SUMMARY:Ask a Health Coach
DESCRIPTION:Unlock a healthier you with "Ask a Health Coach" at Higher Grou
 nd Wellness! This transformative class is your gateway to making small\, i
 mpactful changes that lead to lasting well-being. Join us for a motivation
 al and hands-on session designed to empower you to take charge of your hea
 lth.\n\nLed by Vickie Laughlin\, a seasoned health and fitness expert with
  over 35 years of experience\, this class offers a wealth of practical ins
 ights and strategies to elevate your vitality\, refine your daily habits\,
  and foster a healthier lifestyle. Vickie’s journey in the wellness fiel
 d began in 1982 as a group fitness instructor\, and she has since expanded
  her expertise in:\n\n 	Post-Rehab Therapy\n 	Massage Therapy\n 	Holistic 
 Lifestyle Coaching (Certified in 2011)\n\nThrough her advanced training wi
 th the CHEK Institute in Holistic Lifestyle Coaching and Integrated Moveme
 nt Science\, Vickie has empowered countless clients to achieve remarkable 
 health transformations. As Vickie puts it\, “The body has an incredible 
 ability to heal itself when we create the right environment. Addressing fo
 undational health is the key to lasting results.”\n\nIn this class\, you
  will discover:\n\n 	Five Powerful Techniques: Learn how to break bad habi
 ts and implement positive changes that enhance your well-being.\n 	Reclaim
  Your Health: Gain insights on how to achieve your personal wellness goals
  and optimize your health.\n 	Personalized Guidance: Get customized answer
 s to your health questions in a supportive and interactive environment.\n\
 nWhether you're seeking to improve your sleep\, boost your energy\, enhanc
 e your fitness\, or elevate your overall health\, this class is an invalua
 ble opportunity to learn from an expert who has guided many towards profou
 nd health transformations. Don’t miss out on this chance to rejuvenate y
 our life and achieve the wellness you’ve always desired!\n\nGET TICKETS\
 n
ATTACH;FMTTYPE=image/jpeg:https://breathelosangeles.us/wp-content/uploads/
 2024/09/Ask-a-Health-Coach.jpg
CATEGORIES:Things To Do,Wellness Events
LOCATION:Higher Ground Wellness\, 224 West Maple Avenue Suite C Orange\, Lo
 s Angeles\, California\, 92866\, CA\, United States
X-APPLE-STRUCTURED-LOCATION;VALUE=URI;X-ADDRESS=224 West Maple Avenue Suite
  C Orange\, Los Angeles\, California\, 92866\, CA\, United States;X-APPLE-
 RADIUS=100;X-TITLE=Higher Ground Wellness:geo:0,0
END:VEVENT
BEGIN:VTIMEZONE
TZID:America/Los_Angeles
X-LIC-LOCATION:America/Los_Angeles
BEGIN:DAYLIGHT
DTSTART:20240310T030000
TZOFFSETFROM:-0800
TZOFFSETTO:-0700
TZNAME:PDT
END:DAYLIGHT
END:VTIMEZONE
END:VCALENDAR