BEGIN:VCALENDAR
VERSION:2.0
PRODID:-//wp-events-plugin.com//7.2.3.1//EN
BEGIN:VEVENT
UID:566@breathelosangeles.us
DTSTART;TZID=America/Los_Angeles:20241013T103000
DTEND;TZID=America/Los_Angeles:20241013T143000
DTSTAMP:20240928T150633Z
URL:https://breathelosangeles.us/events/autumn-renewal-retreat/
SUMMARY:Autumn Renewal Retreat
DESCRIPTION:Step into a world of rejuvenation with the Autumn Renewal Retre
 at\, an immersive half-day experience located in LA's vibrant Arts Distric
 t. This intimate in-person event is designed to help participants rediscov
 er balance and harmony as they transition through the changing seasons\, b
 oth physically and emotionally.\n\nAttendees will engage in a variety of m
 indful practices\, including a grounding vinyasa flow\, an intention-setti
 ng workshop\, and a deeply relaxing sound bath. The retreat also includes 
 a light lunch featuring organic cold-pressed juices and ceremonial-grade m
 atcha\, offering nourishment for both body and soul. Each participant will
  receive a thoughtfully curated goodie bag to enhance their wellness journ
 ey.\n\nThis transformative event\, curated by Calm Curations\, Angel Van S
 ky\, and Mindful Soundscape\, is the perfect opportunity for self-care and
  renewal. Reserve your spot today and invest in your well-being this seaso
 n.\n\n&nbsp\;\n\nGET TICKETS\n
ATTACH;FMTTYPE=image/jpeg:https://breathelosangeles.us/wp-content/uploads/
 2024/09/Autumn-Renewal-Retreat.jpg
CATEGORIES:Retreats Events
LOCATION:Arts District\, Arts District Los Angeles\, Los Angeles\, Californ
 ia\, 90048\, CA\, United States
X-APPLE-STRUCTURED-LOCATION;VALUE=URI;X-ADDRESS=Arts District Los Angeles\,
  Los Angeles\, California\, 90048\, CA\, United States;X-APPLE-RADIUS=100;
 X-TITLE=Arts District:geo:0,0
END:VEVENT
BEGIN:VTIMEZONE
TZID:America/Los_Angeles
X-LIC-LOCATION:America/Los_Angeles
BEGIN:DAYLIGHT
DTSTART:20240310T030000
TZOFFSETFROM:-0800
TZOFFSETTO:-0700
TZNAME:PDT
END:DAYLIGHT
END:VTIMEZONE
END:VCALENDAR