BEGIN:VCALENDAR
VERSION:2.0
PRODID:-//wp-events-plugin.com//7.2.3.1//EN
BEGIN:VEVENT
UID:394@breathelosangeles.us
DTSTART;TZID=America/Los_Angeles:20240818T170000
DTEND;TZID=America/Los_Angeles:20240818T193000
DTSTAMP:20240815T043439Z
URL:https://breathelosangeles.us/events/awakening-the-goddess-within-heali
 ng-circle/
SUMMARY:Awakening the Goddess Within Healing Circle
DESCRIPTION:Step into the sacred space of the Awakening the Goddess Within 
 Circle\, a ceremony that honors the wild\, creative wisdom of the divine f
 eminine. This gathering is a celebration of sacred femininity\, designed t
 o cultivate deep healing practices that awaken the magic within each parti
 cipant\, allowing for the birth of new realities.\n\nThis circle is more t
 han just a gathering—it's a transformative journey. Through energetic cl
 earings\, womb activations\, and powerful rituals\, participants will conn
 ect deeply with their inner selves. Practices such as breathwork\, meditat
 ion\, chanting\, sound healing\, and yoga are woven together to guide each
  woman on a path of self-discovery and empowerment. The use of sacred plan
 t medicines like flowers and roots enhances the connection to nature and t
 he divine\, further deepening the healing experience.\n\nEach circle is a 
 collective journey\, where women come together as sacred wisdom sisters\, 
 supporting each other in awakening their unique alchemies and inner goddes
 s wisdom. The gathering pays homage to the sacred masculine\, recognizing 
 that true alchemy occurs when both the masculine and feminine energies are
  honored and balanced within us and in the world around us.\n\nThis circle
  is a powerful medicine\, creating a space for deep healing\, connection\,
  and transformation. It offers a safe and sacred environment where women c
 an explore their conflicts\, release their blocks\, and learn from the wis
 dom of others. The intention is to build a supportive community where wome
 n can share their hearts\, their pains\, and their triumphs\, empowering e
 ach other to live fully healed\, embodied lives.\n\nThis month’s circle 
 is particularly special as we honor the majestic Goddess Sekhmet\, known f
 or her courage\, strength\, and transformative power. Under the influence 
 of the Leo sun\, a time synonymous with strength\, leadership\, and courag
 e\, this gathering will harness Sekhmet’s fiery energy to ignite inner p
 ower and facilitate profound personal transformation.\n\nIf you feel calle
 d to awaken the sacred feminine wisdom within you\, to step into your divi
 ne mission\, or to connect with a conscious community of goddesses who cel
 ebrate and nurture one another\, this circle is for you. This is an invita
 tion to embrace your inner goddess\, to activate your creative energy\, an
 d to live with deep intention and sacred ceremony.\n\nHow to Prepare:\n\n 
 	Dress in your favorite goddess attire.\n 	Adorn yourself with your most s
 ensual oil or fragrance.\n 	Bring a pen\, journal\, and any crystals or sa
 cred items you’d like to place on the altar.\n 	Come as your higher self
 \, with an open heart and a readiness to transform.\n\nBenefits:\n\n 	Deep
  interpersonal connections with other goddesses.\n 	Healing of deep-seated
  traumas and wounds.\n 	Clearing of energetic blocks in the heart and womb
 .\n 	Uncovering of inner strengths and gifts.\n 	Transformation of pain in
 to strength and wounds into wisdom.\n\nWhat You Will Receive:\n\n 	Healing
  Tea Ceremony with a featured flower or root of the month.\n 	Energetic an
 d Womb Clearing rituals.\n 	Angelic healing with the Pink\, Blue\, and Dia
 mond healing rays\, as well as Reiki energy.\n 	Empowering mantras\, yantr
 as\, yoga postures\, and meditations.\n 	Sacred transmissions and Goddess 
 Codes.\n 	Sound healing and transformational coaching tips.\n 	Ongoing sup
 port from a network of powerful goddesses.\n\nSpace is limited\, so reserv
 e your seat in the circle now to ensure your place in this extraordinary e
 xperience. Let us come together\, ignite our inner light\, and embrace our
  true potential as goddesses of transformation and healing.\n\nGET TICKETS
 \n
ATTACH;FMTTYPE=image/jpeg:https://breathelosangeles.us/wp-content/uploads/
 2024/08/Awakening-the-Goddess-Within-Healing-Circle.jpg
CATEGORIES:Mindfulness Events,Things To Do,Wellness Events
LOCATION:Private Residence\, 8569 W Olympic Blvd \, Los Angeles\, Californi
 a\, 90035\, CA\, United States
X-APPLE-STRUCTURED-LOCATION;VALUE=URI;X-ADDRESS=8569 W Olympic Blvd \, Los 
 Angeles\, California\, 90035\, CA\, United States;X-APPLE-RADIUS=100;X-TIT
 LE=Private Residence:geo:0,0
END:VEVENT
BEGIN:VTIMEZONE
TZID:America/Los_Angeles
X-LIC-LOCATION:America/Los_Angeles
BEGIN:DAYLIGHT
DTSTART:20240310T030000
TZOFFSETFROM:-0800
TZOFFSETTO:-0700
TZNAME:PDT
END:DAYLIGHT
END:VTIMEZONE
END:VCALENDAR