BEGIN:VCALENDAR
VERSION:2.0
PRODID:-//wp-events-plugin.com//7.2.3.1//EN
BEGIN:VEVENT
UID:472@breathelosangeles.us
DTSTART;TZID=America/Los_Angeles:20240914T090000
DTEND;TZID=America/Los_Angeles:20240914T110000
DTSTAMP:20240907T073308Z
URL:https://breathelosangeles.us/events/ayur-made-whole/
SUMMARY:Ayur Made Whole?!
DESCRIPTION:Join us for Ayur Made Whole?!\, an enriching experience where w
 e delve into the transformative power of rejuvenation and holistic wellnes
 s. This session introduces the timeless wisdom of Ayurveda\, guiding parti
 cipants on how to harmonize the mind\, body\, and spirit.\n\nLed by Dr. Ni
 yoni\, this first session explores the foundational Ayurvedic practices th
 at can be easily integrated into daily life to create a balanced\, healthy
  lifestyle. You’ll gain practical insights into self-care routines\, nut
 ritional guidelines\, and natural healing methods that promote overall wel
 l-being.\n\nConnect with others on a similar wellness journey and leave fe
 eling revitalized and empowered. Once you sign up\, don’t forget to comp
 lete the questionnaire sent via email\, as your personalized results will 
 be discussed during the session.\n\nPrioritize your health and embark on t
 his path to holistic living. Don’t miss out on this unique opportunity t
 o nurture yourself inside and out. We look forward to seeing you there!\n\
 nGET TICKETS\n
ATTACH;FMTTYPE=image/jpeg:https://breathelosangeles.us/wp-content/uploads/
 2024/09/Ayur-Made-Whole.jpg
CATEGORIES:Mindfulness Events,Things To Do,Wellness Events
LOCATION:Raw Regimen\, 16170 Perris Boulevard #Suite L Moreno Valley\, Los 
 Angeles\, California\, 92551\, CA\, United States
X-APPLE-STRUCTURED-LOCATION;VALUE=URI;X-ADDRESS=16170 Perris Boulevard #Sui
 te L Moreno Valley\, Los Angeles\, California\, 92551\, CA\, United States
 ;X-APPLE-RADIUS=100;X-TITLE=Raw Regimen:geo:0,0
END:VEVENT
BEGIN:VTIMEZONE
TZID:America/Los_Angeles
X-LIC-LOCATION:America/Los_Angeles
BEGIN:DAYLIGHT
DTSTART:20240310T030000
TZOFFSETFROM:-0800
TZOFFSETTO:-0700
TZNAME:PDT
END:DAYLIGHT
END:VTIMEZONE
END:VCALENDAR