BEGIN:VCALENDAR
VERSION:2.0
PRODID:-//wp-events-plugin.com//7.2.3.1//EN
BEGIN:VEVENT
UID:460@breathelosangeles.us
DTSTART;TZID=America/Los_Angeles:20240912T180000
DTEND;TZID=America/Los_Angeles:20240912T190000
DTSTAMP:20240907T032522Z
URL:https://breathelosangeles.us/events/ayurveda-wellness-series/
SUMMARY:Ayurveda Wellness Series
DESCRIPTION:Embark on a journey of holistic healing with the Ayurveda Welln
 ess Series at The Sanctuary Wellness Center &amp\; Yoga Studio. This immer
 sive series invites participants to explore the timeless principles of Ayu
 rveda\, offering a comprehensive approach to harmonizing mind\, body\, and
  spirit.\n\nThroughout the series\, attendees will delve into essential Ay
 urvedic practices\, including tailored nutrition plans\, daily routines\, 
 and self-care techniques. Each workshop is designed to cater to both begin
 ners and those seeking to deepen their understanding of Ayurveda. Whether 
 you're new to this ancient wisdom or looking to enrich your existing knowl
 edge\, this series provides valuable insights and practical tools for achi
 eving balanced wellness.\n\nDiscover how Ayurveda can transform your life 
 by guiding you towards a more harmonious and vibrant existence. Join us an
 d unlock the transformative power of Ayurvedic practices.\n\nGET TICKETS\n
ATTACH;FMTTYPE=image/jpeg:https://breathelosangeles.us/wp-content/uploads/
 2024/09/Ayurveda-Wellness-Series.jpg
CATEGORIES:Mindfulness Events,Things To Do,Wellness Events
LOCATION:The Sanctuary Wellness Center & Yoga Studio\, 505 West First Stree
 t Tustin\, Los Angeles\, California\, 92780\, CA\, United States
X-APPLE-STRUCTURED-LOCATION;VALUE=URI;X-ADDRESS=505 West First Street Tusti
 n\, Los Angeles\, California\, 92780\, CA\, United States;X-APPLE-RADIUS=1
 00;X-TITLE=The Sanctuary Wellness Center & Yoga Studio:geo:0,0
END:VEVENT
BEGIN:VTIMEZONE
TZID:America/Los_Angeles
X-LIC-LOCATION:America/Los_Angeles
BEGIN:DAYLIGHT
DTSTART:20240310T030000
TZOFFSETFROM:-0800
TZOFFSETTO:-0700
TZNAME:PDT
END:DAYLIGHT
END:VTIMEZONE
END:VCALENDAR