BEGIN:VCALENDAR
VERSION:2.0
PRODID:-//wp-events-plugin.com//7.2.3.1//EN
BEGIN:VEVENT
UID:62@breathelosangeles.us
DTSTART;TZID=America/Los_Angeles:20240313T190000
DTEND;TZID=America/Los_Angeles:20240327T220000
DTSTAMP:20240312T165456Z
URL:https://breathelosangeles.us/events/bay-area-women-in-jazz-beyond/
SUMMARY:Seen & Heard: Bay Area Women in Jazz & Beyond
DESCRIPTION:\nBay Area Women Take Center Stage in March's Discover Jazz Ser
 ies\nThis March\, SFJAZZ presents a captivating series dedicated to the ph
 enomenal women shaping the Bay Area's jazz scene. Curated by the esteemed 
 pianist and SFJAZZ Lead Teaching Artist\, Tammy L. Hall\, "Discover Jazz" 
 promises an inspiring exploration of "unsung and yet to be sung" voices.\n
 Throughout the month\, the series sheds light on the remarkable contributi
 ons of female instrumentalists and vocalists. These accomplished musicians
 \, each a force in their own right\, come together under the unifying bann
 er of jazz. Get ready to embark on a musical odyssey celebrating the legac
 y of these women pioneers and their enduring impact on future generations.
 \n"Discover Jazz" serves as a platform for discovery\, illumination\, and 
 elevation. It's a chance to appreciate the artistry of exceptional women w
 ho often fly under the radar. We'll witness their masterful musicianship\,
  their innovative compositions and arrangements\, and their unwavering ded
 ication to pushing the boundaries of jazz.\nPrepare to be captivated by th
 e artistry of these talented women. They'll inspire you with their passion
 \, their technical prowess\, and their unique styles. This series isn't ju
 st about celebrating the past\; it's about acknowledging the profound lega
 cy these women are building\, paving the way for a new generation of femal
 e musicians to take center stage.\nSFJAZZ's "Discover Jazz" series promise
 s an unforgettable month of music\, filled with vibrant performances and t
 he chance to discover the hidden gems of the Bay Area's jazz scene. Whethe
 r you're a seasoned jazz aficionado or simply curious to delve deeper into
  this dynamic genre\, this series is guaranteed to leave you enriched and 
 inspired. Mark your calendars and get ready to experience the power of fem
 ale musicianship firsthand!\n\n\n\nBUY TICKETS $30\n
ATTACH;FMTTYPE=image/jpeg:https://breathelosangeles.us/wp-content/uploads/
 2024/03/s11_hero_discoverjazz_march.jpg
CATEGORIES:Things To Do,Wellness Events
LOCATION:SFJAZZ Center - SF Jazz\, 201 Franklin Street\, \, San Francisco\,
  California\,  94102\, United States
X-APPLE-STRUCTURED-LOCATION;VALUE=URI;X-ADDRESS=201 Franklin Street\, \, Sa
 n Francisco\, California\,  94102\, United States;X-APPLE-RADIUS=100;X-TIT
 LE=SFJAZZ Center - SF Jazz:geo:0,0
END:VEVENT
BEGIN:VTIMEZONE
TZID:America/Los_Angeles
X-LIC-LOCATION:America/Los_Angeles
BEGIN:DAYLIGHT
DTSTART:20240310T030000
TZOFFSETFROM:-0800
TZOFFSETTO:-0700
TZNAME:PDT
END:DAYLIGHT
END:VTIMEZONE
END:VCALENDAR