BEGIN:VCALENDAR
VERSION:2.0
PRODID:-//wp-events-plugin.com//7.2.3.1//EN
BEGIN:VEVENT
UID:917@breathelosangeles.us
DTSTART;TZID=America/Los_Angeles:20250301T100000
DTEND;TZID=America/Los_Angeles:20250301T111500
DTSTAMP:20250218T152353Z
URL:https://breathelosangeles.us/events/beach-yoga/
SUMMARY:Beach Yoga
DESCRIPTION:Experience a restorative and refreshing beach yoga session this
  Saturday\, open to all skill levels and guided by instructor Libby.\nPart
 icipants are encouraged to park either for free near 3618 Pacific Ave or o
 pt for paid parking at the Venice Pier lot. The session takes place on the
  sandy shore at Fleet St. in Marina del Rey. Look out for a rainbow-colore
 d tent that marks the location.\nCome prepared with comfortable layers of 
 clothing\, a hat\, and essentials like a large towel or blanket\, as well 
 as water to stay hydrated.\nThis yoga session invites participants to appr
 oach with an open heart and depart with a renewed sense of peace and vital
 ity. Arriving early is recommended to secure parking and settle in comfort
 ably.\nIf assistance is needed to locate the group\, Juan Pablo is availab
 le to help at 213-916-6622.\n\n\nGET TICKETS\n
ATTACH;FMTTYPE=image/jpeg:https://breathelosangeles.us/wp-content/uploads/
 2025/02/Beach-Yoga.avif
CATEGORIES:Yoga Events
LOCATION:Beach Yoga Life Fleet Street & Speedway\, Fleet Street\, Marina de
 l Rey\, California\, 90292\, CA\, United States
X-APPLE-STRUCTURED-LOCATION;VALUE=URI;X-ADDRESS=Fleet Street\, Marina del R
 ey\, California\, 90292\, CA\, United States;X-APPLE-RADIUS=100;X-TITLE=Be
 ach Yoga Life Fleet Street & Speedway:geo:0,0
END:VEVENT
BEGIN:VTIMEZONE
TZID:America/Los_Angeles
X-LIC-LOCATION:America/Los_Angeles
BEGIN:STANDARD
DTSTART:20241103T010000
TZOFFSETFROM:-0700
TZOFFSETTO:-0800
TZNAME:PST
END:STANDARD
END:VTIMEZONE
END:VCALENDAR