BEGIN:VCALENDAR
VERSION:2.0
PRODID:-//wp-events-plugin.com//7.2.3.1//EN
BEGIN:VEVENT
UID:69@breathelosangeles.us
DTSTART;TZID=America/Los_Angeles:20240427T110000
DTEND;TZID=America/Los_Angeles:20240427T150000
DTSTAMP:20240313T200022Z
URL:https://breathelosangeles.us/events/beautystat-x-ulta-beauty-mastercla
 ss/
SUMMARY:BeautyStat X Ulta Beauty Masterclass with Cosmetic Chemist Ron Robi
 nson
DESCRIPTION:\nLearn Skincare Secrets from Celebrity Chemist Ron Robinson!\n
 Calling all skincare enthusiasts! Get ready to elevate your beauty routine
  with renowned celebrity cosmetic chemist\, Ron Robinson! The Beauty of No
 w event offers an exclusive opportunity to learn directly from an industry
  expert and create a personalized facial routine for glowing skin.\nMeet t
 he Mastermind:\nRon Robinson\, a name synonymous with cutting-edge skincar
 e\, will be sharing his knowledge and passion for all things beauty. His e
 xpertise\, honed over 30 years in the cosmetic chemistry field\, will equi
 p you with the tools you need to make informed choices for your skin.\nInt
 eractive Learning &amp\; Fun:\nThis event isn't just a lecture\; it's an i
 nteractive experience! Gather your bestie and join Ron for a mini facial p
 rep session. Learn the secrets behind effective facial care\, from product
  selection to application techniques\, in a fun and intimate setting.\nCho
 ose Your Time:\nThe Beauty of Now offers two convenient masterclass sessio
 ns\, one at 11 AM and another at 2 PM. Choose the time that best suits you
 r schedule and get ready to dive into the world of skincare with Ron Robin
 son.\nMore Than Just a Class:\nThis event is an investment in your confide
 nce and well-being. By learning from a leading expert\, you'll gain valuab
 le knowledge about:\n\n\n 	Understanding Your Skin Type: Discover how to i
 dentify your unique skin type and choose products that address your specif
 ic needs.\n 	Decoding Skincare Ingredients: Learn how to decipher ingredie
 nt labels and identify the powerhouses that will work wonders for your ski
 n.\n 	Creating a Personalized Routine: Craft a custom skincare routine tha
 t targets your goals\, whether it's combating dryness\, reducing wrinkles\
 , or achieving a brighter complexion.\n\nBeyond the Masterclass:\nLeave th
 e event feeling empowered and equipped to take control of your skincare jo
 urney. This experience will give you the confidence to create and maintain
  a healthy\, radiant glow you'll love.\nReserve Your Spot Today!\nDon't mi
 ss this exciting opportunity to learn from the best! Grab your best friend
  and reserve your spot for The Beauty of Now masterclass with Ron Robinson
 . Seats are limited\, so book yours today and unlock the secrets to achiev
 ing your most beautiful skin!\n\n\n\n\nGET TICKETS\n\n
ATTACH;FMTTYPE=image/jpeg:https://breathelosangeles.us/wp-content/uploads/
 2024/03/https___cdn.evbuc_.com_images_682093799_1980160760923_1_original.j
 peg
CATEGORIES:Wellness Events
LOCATION:Ulta Beauty\, 4200 East Carson Street \, Long Beach\, California\,
  90808\, United States
X-APPLE-STRUCTURED-LOCATION;VALUE=URI;X-ADDRESS=4200 East Carson Street \, 
 Long Beach\, California\, 90808\, United States;X-APPLE-RADIUS=100;X-TITLE
 =Ulta Beauty:geo:0,0
END:VEVENT
BEGIN:VTIMEZONE
TZID:America/Los_Angeles
X-LIC-LOCATION:America/Los_Angeles
BEGIN:DAYLIGHT
DTSTART:20240310T030000
TZOFFSETFROM:-0800
TZOFFSETTO:-0700
TZNAME:PDT
END:DAYLIGHT
END:VTIMEZONE
END:VCALENDAR