BEGIN:VCALENDAR
VERSION:2.0
PRODID:-//wp-events-plugin.com//7.2.3.1//EN
BEGIN:VEVENT
UID:683@breathelosangeles.us
DTSTART;TZID=America/Los_Angeles;VALUE=DATE:20241026
DTEND;TZID=America/Los_Angeles;VALUE=DATE:20241027
DTSTAMP:20241005T165446Z
URL:https://breathelosangeles.us/events/beer-yoga-at-trademark-brewing-lon
 g-beach-2/
SUMMARY:BEER YOGA at Trademark Brewing\, Long Beach
DESCRIPTION:Experience the unique fusion of relaxation and refreshment with
  Beer Yoga at Trademark Brewing in Long Beach. For just $15\, participants
  can enjoy an enriching session that includes:\n\n 	One hour of expert ins
 truction led by a certified yoga instructor\, guiding attendees through mi
 ndful movements and breathwork.\n 	Unlimited ujjayi breathing\, fostering 
 a deeper connection to the breath and enhancing the overall yoga experienc
 e.\n 	A journey toward limitless balance and inner peace\, allowing indivi
 duals to unwind and find tranquility amidst the hustle of daily life.\n 	O
 pportunities to develop improved flexibility and core strength\, tailored 
 to all skill levels\, ensuring everyone can benefit from the practice.\n 	
 A deliciously refreshing recovery beer to enjoy post-session\, perfectly c
 omplementing the workout.\n\nClasses commence at 11 AM\, so participants a
 re encouraged to arrive 10 minutes early to settle in. It's advisable to b
 ring personal yoga mats\; however\, rental mats are available for a small 
 cash fee. Join this delightful blend of fitness and fun\, and embark on a 
 rejuvenating journey!\n\nGET TICKETS\n
ATTACH;FMTTYPE=image/jpeg:https://breathelosangeles.us/wp-content/uploads/
 2024/10/BEER-YOGA-at-Trademark-Brewing-Long-Beach.png
CATEGORIES:Yoga Events
LOCATION:Trademark Brewing\, 233 East Anaheim Street Long Beach\, Long Beac
 h\, California\, 90813 \, CA\, United States
X-APPLE-STRUCTURED-LOCATION;VALUE=URI;X-ADDRESS=233 East Anaheim Street Lon
 g Beach\, Long Beach\, California\, 90813 \, CA\, United States;X-APPLE-RA
 DIUS=100;X-TITLE=Trademark Brewing:geo:0,0
END:VEVENT
BEGIN:VTIMEZONE
TZID:America/Los_Angeles
X-LIC-LOCATION:America/Los_Angeles
BEGIN:DAYLIGHT
DTSTART:20240310T030000
TZOFFSETFROM:-0800
TZOFFSETTO:-0700
TZNAME:PDT
END:DAYLIGHT
END:VTIMEZONE
END:VCALENDAR