BEGIN:VCALENDAR
VERSION:2.0
PRODID:-//wp-events-plugin.com//7.2.3.1//EN
BEGIN:VEVENT
UID:199@breathelosangeles.us
DTSTART;TZID=America/Los_Angeles:20240413T110000
DTEND;TZID=America/Los_Angeles:20240413T120000
DTSTAMP:20240404T171529Z
URL:https://breathelosangeles.us/events/beer-yoga/
SUMMARY:Beer Yoga
DESCRIPTION:Come join us for a delightful and soothing session of Beer Yoga
 \, where we seamlessly blend the pleasure of beer with the tranquility of 
 yoga.\n\nEvent Information:\n\nEvent Name: Beer Yoga\n\nHost: Glendale Tap
 \n\nDate and Time: Saturday\, April 13 • 11am - 12pm PDT\n\nLocation: Gl
 endale Tap\, 4227 San Fernando Road\, Glendale\, CA 91204\, United States\
 n\nAbout this Event: Indulge in a unique fusion of relaxation and refreshm
 ent with Beer Yoga at The Glendale Tap! For an hour of fun and rejuvenatio
 n as we combine the joy of beer with the zen of yoga. This class offers a 
 perfect opportunity to unwind and have a great time\, whether you're a sea
 soned yogi or just looking for a new experience. All levels are welcome. T
 his meditation-focused session invites you to enjoy a cold beer after a lo
 ng week. Namaste\, and we hope to see you there! Cheers!\n\nWorkout Sessio
 n Detail: This class offers a combination of yoga and beer enjoyment\, foc
 using on relaxation and meditation.\n\nEssential for Bringing: Participant
 s must bring their own yoga mats. Arrive early to grab your beer and set u
 p your mat.\n\nParking Option: Parking is available at the Glendale Tap ve
 nue.\nTicket Information:\n\nGeneral Admission: $25.31\n\nTicket Price: $2
 2.00\n\nFees: $3.31\n\nGET TICKETS\n\nRefund Policy: Contact the organizer
  to request a refund. Eventbrite's fee is nonrefundable.
ATTACH;FMTTYPE=image/jpeg:https://breathelosangeles.us/wp-content/uploads/
 2024/04/RERERER.jpg
CATEGORIES:Wellness Events,Yoga Events
LOCATION:Glendale Tap\, 4227 San Fernando Road\,  Glendale\, \, United Stat
 es\, 91204 \, CA \, United States
X-APPLE-STRUCTURED-LOCATION;VALUE=URI;X-ADDRESS=4227 San Fernando Road\,  G
 lendale\, \, United States\, 91204 \, CA \, United States;X-APPLE-RADIUS=1
 00;X-TITLE=Glendale Tap:geo:0,0
END:VEVENT
BEGIN:VTIMEZONE
TZID:America/Los_Angeles
X-LIC-LOCATION:America/Los_Angeles
BEGIN:DAYLIGHT
DTSTART:20240310T030000
TZOFFSETFROM:-0800
TZOFFSETTO:-0700
TZNAME:PDT
END:DAYLIGHT
END:VTIMEZONE
END:VCALENDAR