BEGIN:VCALENDAR
VERSION:2.0
PRODID:-//wp-events-plugin.com//7.2.3.1//EN
BEGIN:VEVENT
UID:591@breathelosangeles.us
DTSTART;TZID=America/Los_Angeles:20241005T100000
DTEND;TZID=America/Los_Angeles:20241005T110000
DTSTAMP:20240929T150329Z
URL:https://breathelosangeles.us/events/beginner-yoga-in-the-park/
SUMMARY:Beginner Yoga in the Park
DESCRIPTION:Discover the calming benefits of yoga in a serene outdoor setti
 ng with Beginner Yoga in the Park at Johnny Carson Park! Whether you’re 
 brand new to yoga or simply seeking to refresh and deepen your practice\, 
 this session is designed to accommodate all skill levels. It’s a great o
 pportunity to improve your flexibility\, build strength\, and cultivate mi
 ndfulness while connecting with nature.\n\nLocation: Johnny Carson Park\, 
 meet along Bob Hope Drive.\n\nLed by experienced instructors\, each sessio
 n will take you through a series of gentle yoga poses\, focusing on breath
  control\, balance\, and relaxation. You’ll enjoy the fresh air and natu
 ral beauty of the park as you stretch and unwind\, making it an ideal way 
 to start or end your day.\n\nWhat to Bring:\n\n 	A yoga mat\n 	A water bot
 tle to stay hydrated\n 	Comfortable clothing that allows for easy movement
 \n\nFeel free to arrive a few minutes early to settle in and find your spa
 ce. Whether you're looking to relieve stress\, improve your well-being\, o
 r simply enjoy some quiet time outdoors\, this beginner-friendly class off
 ers the perfect setting for your yoga journey.\n\nWe can’t wait to welco
 me you to the park for a refreshing and peaceful yoga experience!\n\n&nbsp
 \;\n\nGET TICKETS\n
ATTACH;FMTTYPE=image/jpeg:https://breathelosangeles.us/wp-content/uploads/
 2024/09/Beginner-Yoga-in-the-Park.jpeg
CATEGORIES:Yoga Events
LOCATION:Johnny Carson Park\, 400 Bob Hope Drive Burbank\, Los Angeles\, Ca
 lifornia\, 91505\, CA\, United States
X-APPLE-STRUCTURED-LOCATION;VALUE=URI;X-ADDRESS=400 Bob Hope Drive Burbank\
 , Los Angeles\, California\, 91505\, CA\, United States;X-APPLE-RADIUS=100
 ;X-TITLE=Johnny Carson Park:geo:0,0
END:VEVENT
BEGIN:VTIMEZONE
TZID:America/Los_Angeles
X-LIC-LOCATION:America/Los_Angeles
BEGIN:DAYLIGHT
DTSTART:20240310T030000
TZOFFSETFROM:-0800
TZOFFSETTO:-0700
TZNAME:PDT
END:DAYLIGHT
END:VTIMEZONE
END:VCALENDAR