BEGIN:VCALENDAR
VERSION:2.0
PRODID:-//wp-events-plugin.com//7.2.3.1//EN
BEGIN:VEVENT
UID:482@breathelosangeles.us
DTSTART;TZID=America/Los_Angeles:20240922T110000
DTEND;TZID=America/Los_Angeles:20240922T130000
DTSTAMP:20240911T081035Z
URL:https://breathelosangeles.us/events/beginners-herb-walk/
SUMMARY:Beginner's Herb Walk
DESCRIPTION:“In some native languages\, the term for plants translates to
  ‘those who take care of us.’” – Robin Wall Kimmerer\n\nThe Beginn
 er's Herb Walk is a gentle introduction for those new to herbalism\, botan
 y\, or anyone seeking to reconnect with the land. This immersive experienc
 e invites participants to explore the rich variety of native plants\, lear
 ning how to identify and understand them while deepening their relationshi
 p with nature. The walk is designed to bridge the gap between nature lover
 s and those eager to protect and understand the flora that thrives in our 
 shared urban environments.\n\nWhat to Expect: The walk will begin with a c
 alming cup of herbal tea and a grounding meditation\, allowing participant
 s to attune to the surroundings and enter a mindful state. As the walk pro
 gresses\, participants will dive into the basics of plant identification\,
  focusing on native species that define the local ecosystem. Through engag
 ing discussions and hands-on exploration\, participants will learn essenti
 al identification techniques\, discover traditional and folk uses of vario
 us plants\, and gain an appreciation for their ecological significance.\n\
 nWhether you're a nature enthusiast\, budding herbalist\, or simply curiou
 s about the world around you\, this herb walk offers a meaningful way to r
 econnect with the earth and expand your knowledge of the plants that quiet
 ly coexist with us in our city.\n\nGET TICKETS\n
ATTACH;FMTTYPE=image/jpeg:https://breathelosangeles.us/wp-content/uploads/
 2024/09/Beginners-Herb-Walk.png
CATEGORIES:Nature Events,Things To Do,Wellness Events
LOCATION:Gabrielino Trail Western Trailhead\, 915 Ventura Street Altadena\,
  Los Angeles\, California\, 91001\, CA\, United States
X-APPLE-STRUCTURED-LOCATION;VALUE=URI;X-ADDRESS=915 Ventura Street Altadena
 \, Los Angeles\, California\, 91001\, CA\, United States;X-APPLE-RADIUS=10
 0;X-TITLE=Gabrielino Trail Western Trailhead:geo:0,0
END:VEVENT
BEGIN:VTIMEZONE
TZID:America/Los_Angeles
X-LIC-LOCATION:America/Los_Angeles
BEGIN:DAYLIGHT
DTSTART:20240310T030000
TZOFFSETFROM:-0800
TZOFFSETTO:-0700
TZNAME:PDT
END:DAYLIGHT
END:VTIMEZONE
END:VCALENDAR