BEGIN:VCALENDAR
VERSION:2.0
PRODID:-//wp-events-plugin.com//7.2.3.1//EN
BEGIN:VEVENT
UID:550@breathelosangeles.us
DTSTART;TZID=America/Los_Angeles;VALUE=DATE:20240925
DTEND;TZID=America/Los_Angeles;VALUE=DATE:20241010
DTSTAMP:20240928T102704Z
URL:https://breathelosangeles.us/events/beyond-fest/
SUMMARY:Beyond Fest
DESCRIPTION:Beyond Fest\, recognized as the most-attended genre film festiv
 al in the United States\, is set to make its triumphant return for its 12t
 h edition. This year\, the festival will span an exhilarating 15 days\, fe
 aturing a diverse lineup of 83 films that promise a feast for cinema lover
 s. Among the impressive array of offerings are 13 World Premieres\, 4 Inte
 rnational Premieres\, 4 U.S. Premieres\, and 25 West Coast Premieres. Atte
 ndees can look forward to engaging with over 100 in-person guests\, who wi
 ll participate in celebrations\, tributes\, and retrospectives that highli
 ght the rich history of genre filmmaking.\n\nThroughout the festival\, aud
 iences will have the opportunity to attend numerous Q&amp\;A sessions feat
 uring renowned filmmakers and actors. Notable attendees include legendary 
 actor Al Pacino\, who will discuss his iconic role in Scarface\; Shane Bla
 ck\, presenting a marathon of four of his films\; and acclaimed director S
 am Raimi\, who will host a triple feature of his celebrated works. Fans of
  indie cinema will be delighted by Bob Odenkirk\, who will talk about his 
 film Melvin Goes to Dinner. The festival will also showcase the talents of
  Ron Perlman with a screening of Hellboy\, Kyle MacLachlan discussing clas
 sics like Dune and Blue Velvet\, and Don Johnson reflecting on A Boy and H
 is Dog and The Hot Spot.\n\nAdditionally\, festival-goers can look forward
  to a nostalgic Speed reunion featuring beloved stars Keanu Reeves\, Sandr
 a Bullock\, and director Jan de Bont. These special events will create a v
 ibrant atmosphere\, offering fans a unique chance to engage directly with 
 the legends of the film industry.\n\nBeyond Fest is more than just a film 
 festival\; it’s a gathering of genre enthusiasts\, filmmakers\, and acto
 rs coming together to celebrate the art of cinema. Whether attendees are p
 assionate about horror\, action\, or fantasy\, they will find something to
  enjoy in this eclectic and thrilling lineup. The festival invites everyon
 e to join in the excitement\, indulge in cinematic excess\, and celebrate 
 the stories that have captivated audiences across generations.\n\nGET TICK
 ETS\n
ATTACH;FMTTYPE=image/jpeg:https://breathelosangeles.us/wp-content/uploads/
 2024/09/Screenshot-2024-09-28-162629.png
CATEGORIES:Things To Do
END:VEVENT
BEGIN:VTIMEZONE
TZID:America/Los_Angeles
X-LIC-LOCATION:America/Los_Angeles
BEGIN:DAYLIGHT
DTSTART:20240310T030000
TZOFFSETFROM:-0800
TZOFFSETTO:-0700
TZNAME:PDT
END:DAYLIGHT
END:VTIMEZONE
END:VCALENDAR