BEGIN:VCALENDAR
VERSION:2.0
PRODID:-//wp-events-plugin.com//7.2.3.1//EN
BEGIN:VEVENT
UID:459@breathelosangeles.us
DTSTART;TZID=America/Los_Angeles:20240919T100000
DTEND;TZID=America/Los_Angeles:20240919T190000
DTSTAMP:20240907T032126Z
URL:https://breathelosangeles.us/events/biohack-your-beauty-on-the-lawn-x-
 glendale-tech-week/
SUMMARY:Biohack Your Beauty On the Lawn x Glendale Tech Week
DESCRIPTION:Join us at The Americana at Brand for an exciting fusion of bea
 uty\, wellness\, and technology during Glendale Tech Week! At Biohack Your
  Beauty On the Lawn\, you'll dive into the latest innovations in beauty te
 ch and holistic wellness. Discover expert insights on how to enhance your 
 appearance while prioritizing your overall health and well-being.\n\nLed b
 y industry professionals\, this event will guide you through an integrativ
 e approach to beauty\, combining cutting-edge aesthetics\, holistic practi
 ces\, and biohacking techniques. Explore how these elements are interconne
 cted and create a personalized roadmap to elevate your beauty and wellness
  routine. Come be a part of this transformative experience!\n\nGET TICKETS
 \n
LOCATION:The Americana at Brand\, 889 Americana Way Glendale\, Los Angeles\
 , California\, 91210\, CA\, United States
X-APPLE-STRUCTURED-LOCATION;VALUE=URI;X-ADDRESS=889 Americana Way Glendale\
 , Los Angeles\, California\, 91210\, CA\, United States;X-APPLE-RADIUS=100
 ;X-TITLE=The Americana at Brand:geo:0,0
END:VEVENT
BEGIN:VTIMEZONE
TZID:America/Los_Angeles
X-LIC-LOCATION:America/Los_Angeles
BEGIN:DAYLIGHT
DTSTART:20240310T030000
TZOFFSETFROM:-0800
TZOFFSETTO:-0700
TZNAME:PDT
END:DAYLIGHT
END:VTIMEZONE
END:VCALENDAR