BEGIN:VCALENDAR
VERSION:2.0
PRODID:-//wp-events-plugin.com//7.2.3.1//EN
BEGIN:VEVENT
UID:543@breathelosangeles.us
DTSTART;TZID=America/Los_Angeles:20240927T180000
DTEND;TZID=America/Los_Angeles:20241102T220000
DTSTAMP:20240930T160354Z
URL:https://breathelosangeles.us/events/boney-island/
SUMMARY:Boney Island
DESCRIPTION:The Natural History Museum is excited to unveil Boney Island\, 
 an enchanting and interactive light display that transforms the Nature Gar
 dens into a breathtaking realm filled with both fun and frights. This capt
 ivating experience invites guests of all ages to immerse themselves in a w
 orld where nature and Halloween collide in a dazzling display of creativit
 y and artistry.\n\nAmong the many highlights\, visitors can embark on the 
 Skeleton Stroll\, where they will walk through an intriguing path lined wi
 th unique skeletal displays. The Deadwood Forest showcases festively fiend
 ish animals\, offering a playful twist on Halloween-themed creatures that 
 will delight and amuse. Meanwhile\, the Hauntington Gardens will resonate 
 with skeletal symphonies\, creating an auditory experience that complement
 s the visual splendor.\n\nFor those fascinated by history\, the Primeval P
 ass features prehistoric creatures that transport guests back in time to a
 n era long past. Guests can also stroll down the Walk of Fame\, where belo
 ved "skelebrities" make an appearance\, adding a fun and humorous touch to
  the event.\n\nAs part of the entertainment\, Maestro Maxilla's Water Show
  will mesmerize audiences with a stunning display of water choreography\, 
 while the Boney Island Theater Stage will host live performances and prese
 ntations from the NHM Living Collections\, showcasing the museum's commitm
 ent to education and engagement.\n\nCostumes are highly encouraged at Bone
 y Island\, and while creativity is welcomed\, attendees are asked to adher
 e to basic guidelines to ensure a respectful atmosphere for all guests.\n\
 nBoney Island promises to be an unforgettable experience\, combining the s
 pirit of Halloween with the wonders of nature\, making it a perfect outing
  for families looking to create lasting memories together.\n\nGET TICKETS\
 n
ATTACH;FMTTYPE=image/jpeg:https://breathelosangeles.us/wp-content/uploads/
 2024/09/Screenshot-2024-09-28-153141.png
CATEGORIES:Featured Events,Things To Do
LOCATION:Natural History Museum: in the Nature Gardens\, 900 Exposition Blv
 d.\, Los Angeles\, Los Angeles\, California\, 90007\, CA\, United States
X-APPLE-STRUCTURED-LOCATION;VALUE=URI;X-ADDRESS=900 Exposition Blvd.\, Los 
 Angeles\, Los Angeles\, California\, 90007\, CA\, United States;X-APPLE-RA
 DIUS=100;X-TITLE=Natural History Museum: in the Nature Gardens:geo:0,0
END:VEVENT
BEGIN:VTIMEZONE
TZID:America/Los_Angeles
X-LIC-LOCATION:America/Los_Angeles
BEGIN:DAYLIGHT
DTSTART:20240310T030000
TZOFFSETFROM:-0800
TZOFFSETTO:-0700
TZNAME:PDT
END:DAYLIGHT
END:VTIMEZONE
END:VCALENDAR