BEGIN:VCALENDAR
VERSION:2.0
PRODID:-//wp-events-plugin.com//7.2.3.1//EN
BEGIN:VEVENT
UID:303@breathelosangeles.us
DTSTART;TZID=America/Los_Angeles:20240629T090000
DTEND;TZID=America/Los_Angeles:20240629T110000
DTSTAMP:20240610T093050Z
URL:https://breathelosangeles.us/events/botanical-balance-events/
SUMMARY:BOTANICAL BALANCE EVENTS
DESCRIPTION:BOTANICAL BALANCE EVENTS offers a unique experience designed to
  nurture your overall well-being with botanical magic\, movement\, and hea
 ling foods. Connect with like-minded individuals in your community and enj
 oy a sense of togetherness.\n\nExperience the uplifting power of BIVA TONI
 C\, a botanical wellness drink carefully crafted with nature's finest ingr
 edients. It supports motivation\, inspiration\, and concentration\, natura
 lly revitalizing your mind\, body\, and spirit.\n\nJoin our Strength &amp\
 ; Stretch class\, a 45-minute session led by expert instructors. Build str
 ength\, increase flexibility\, and release tension with a blend of invigor
 ating exercises and soothing stretches suitable for all fitness levels.\n\
 nIndulge in our Ayurvedic Spring/Summer Menu\, featuring fresh herbs and s
 easonal delights designed to tantalize your taste buds and revitalize your
  energy. This holistic retreat celebrates the vibrant flavors of the seaso
 n\, offering a harmonious experience for your senses and well-being.\n\nGE
 T TICKETS\n
ATTACH;FMTTYPE=image/jpeg:https://breathelosangeles.us/wp-content/uploads/
 2024/06/BOTANICAL-BALANCE-EVENTS.jpg
CATEGORIES:Mindfulness Events,Nature Events,Wellness Events
LOCATION:Silver Lake Meadows\, 2300 Silver Lake Boulevard \, Los Angeles\, 
 California\, 90039\, CA\, United States
X-APPLE-STRUCTURED-LOCATION;VALUE=URI;X-ADDRESS=2300 Silver Lake Boulevard 
 \, Los Angeles\, California\, 90039\, CA\, United States;X-APPLE-RADIUS=10
 0;X-TITLE=Silver Lake Meadows:geo:0,0
END:VEVENT
BEGIN:VTIMEZONE
TZID:America/Los_Angeles
X-LIC-LOCATION:America/Los_Angeles
BEGIN:DAYLIGHT
DTSTART:20240310T030000
TZOFFSETFROM:-0800
TZOFFSETTO:-0700
TZNAME:PDT
END:DAYLIGHT
END:VTIMEZONE
END:VCALENDAR