BEGIN:VCALENDAR
VERSION:2.0
PRODID:-//wp-events-plugin.com//7.2.3.1//EN
BEGIN:VEVENT
UID:672@breathelosangeles.us
DTSTART;TZID=America/Los_Angeles:20241028T110000
DTEND;TZID=America/Los_Angeles:20241028T121500
DTSTAMP:20241004T174413Z
URL:https://breathelosangeles.us/events/breathwork-healing-session-joy-of-
 breathing-south-gate/
SUMMARY:Breathwork Healing Session • Joy of Breathing • South Gate
DESCRIPTION:The Joy of Breathing online breathwork healing session offers p
 articipants the chance to tap into the profound healing power of their bre
 ath. This transformative technique enables individuals to quickly establis
 h a deeper connection with their body\, mind\, heart\, and soul.\n\nDuring
  the 75-minute live session\, participants will be gently guided to explor
 e and connect with the deeper layers of their body\, emotions\, and consci
 ousness. This journey promises to lead them into profoundly healing\, rela
 xing\, and transformative states.\n\nThese sessions are ideal for anyone s
 eeking enhanced well-being\, elevated consciousness\, and the power of sel
 f-healing.\n\nAbout the Joy of Breathing Technique: Developed by Sylvie Ho
 rvath\, who has over 30 years of experience in breathwork\, pranayama\, an
 d yoga\, this technique integrates modern scientific findings with ancient
  yogic wisdom. It’s designed to be simple yet powerful\, allowing anyone
  to benefit from their first session.\n\nParticipant Testimonials:\n\n 	"B
 rilliant! I feel wonderful!" - Aidian\n 	"I think I just experienced my fi
 rst third-eye awareness." - Robert\n 	"That session took me deep into my s
 oul\, healing on all levels." - Bradley\n 	"I felt like I was levitating! 
 I can’t wait to do this again." - Nancy\n 	"My hands were vibrating\, an
 d now I feel very relaxed!" - Kathy\n 	"I’m so grateful to have found th
 is practice. Thank you for your beautiful energy!" - Tara\n\nSylvie expres
 ses her commitment: "It is my pleasure to guide you toward self-empowermen
 t and self-awakening\, helping you experience your truest self across all 
 dimensions."\n\nEvent Details:\n\n 	Agenda:\n\n 	Introduction and instruct
 ions\n 	Deep breathing session\n 	Healing meditation\n 	Relaxation\n 	Shar
 ing and Q&amp\;A\n\n\n\nPreparation for Participants:\n\n 	Connect via Zoo
 m 10 minutes before the start time and silence all phones.\n 	Wear comfort
 able clothing and avoid eating 1.5 to 2 hours prior to the session.\n 	Con
 sider having a yoga mat and blanket for added comfort.\n\nJoin this enrich
 ing experience and discover the transformative power of your breath!\n\nGE
 T TICKETS\n
ATTACH;FMTTYPE=image/jpeg:https://breathelosangeles.us/wp-content/uploads/
 2024/10/Breathwork-Healing-Session-Joy-of-Breathing-South-Gate.jpeg
CATEGORIES:Wellness Events
LOCATION:Soul Dimension\, Online Event on Zoom South Gate\,\, South Gate\,\
 , California\, 90280 \, CA\, United States
X-APPLE-STRUCTURED-LOCATION;VALUE=URI;X-ADDRESS=Online Event on Zoom South 
 Gate\,\, South Gate\,\, California\, 90280 \, CA\, United States;X-APPLE-R
 ADIUS=100;X-TITLE=Soul Dimension:geo:0,0
END:VEVENT
BEGIN:VTIMEZONE
TZID:America/Los_Angeles
X-LIC-LOCATION:America/Los_Angeles
BEGIN:DAYLIGHT
DTSTART:20240310T030000
TZOFFSETFROM:-0800
TZOFFSETTO:-0700
TZNAME:PDT
END:DAYLIGHT
END:VTIMEZONE
END:VCALENDAR