BEGIN:VCALENDAR
VERSION:2.0
PRODID:-//wp-events-plugin.com//7.2.3.1//EN
BEGIN:VEVENT
UID:875@breathelosangeles.us
DTSTART;TZID=America/Los_Angeles:20250212T200000
DTEND;TZID=America/Los_Angeles:20250212T210000
DTSTAMP:20250204T132512Z
URL:https://breathelosangeles.us/events/breathwork-sound-santa-monica-bren
 twood-west-la/
SUMMARY:Breathwork & Sound - Santa Monica | Brentwood | West LA
DESCRIPTION:For the best pricing options\, participants are encouraged to b
 ook directly through the official website at laughingfrogyoga.com.\n\nBrea
 thwork is a transformative practice that has the power to shift awareness\
 , release emotional blockages\, and promote deep healing. Within minutes\,
  practitioners may experience a profound energetic shift\, as waves of vib
 rations course through the body\, unlocking long-held tensions and emotion
 s. This ancient yogic breathing technique has been known to dissolve stres
 s\, bring clarity\, and cultivate a sense of pure joy\, love\, and inner p
 eace—offering a natural and holistic approach to well-being.\n\nTo enhan
 ce the experience\, each session is complemented by healing sound vibratio
 ns\, creating a meditative and immersive environment that deepens relaxati
 on and self-discovery.\n\nBreathwork &amp\; Sound sessions are held every 
 Sunday and Wednesday evening at Laughing Frog Yoga\, a trusted wellness sa
 nctuary serving the Westside community for over 10 years. Conveniently sit
 uated at the intersection of Santa Monica\, Brentwood\, and West LA\, the 
 studio provides a welcoming space for personal transformation and inner ba
 lance.\n\nDiscover the power of breath and sound—join a session and emba
 rk on a journey toward deeper awareness and emotional freedom.\n\nGET TICK
 ETS\n
ATTACH;FMTTYPE=image/jpeg:https://breathelosangeles.us/wp-content/uploads/
 2025/02/Breathwork-Sound-Santa-Monica-Brentwood-West-LA.jpeg
CATEGORIES:Wellness Events
LOCATION:Laughing Frog Yoga\, 12217 Santa Monica Blvd Los Angeles\, CA 9002
 5 United States\, Los Angeles\,\, United States\, 90025\, CA\, United Stat
 es
X-APPLE-STRUCTURED-LOCATION;VALUE=URI;X-ADDRESS=12217 Santa Monica Blvd Los
  Angeles\, CA 90025 United States\, Los Angeles\,\, United States\, 90025\
 , CA\, United States;X-APPLE-RADIUS=100;X-TITLE=Laughing Frog Yoga:geo:0,0
END:VEVENT
BEGIN:VTIMEZONE
TZID:America/Los_Angeles
X-LIC-LOCATION:America/Los_Angeles
BEGIN:STANDARD
DTSTART:20241103T010000
TZOFFSETFROM:-0700
TZOFFSETTO:-0800
TZNAME:PST
END:STANDARD
END:VTIMEZONE
END:VCALENDAR