BEGIN:VCALENDAR
VERSION:2.0
PRODID:-//wp-events-plugin.com//7.2.3.1//EN
BEGIN:VEVENT
UID:722@breathelosangeles.us
DTSTART;TZID=America/Los_Angeles:20241019T183000
DTEND;TZID=America/Los_Angeles:20241019T203000
DTSTAMP:20241015T124408Z
URL:https://breathelosangeles.us/events/cacao-sound-chakra-activation-cere
 mony/
SUMMARY:Cacao & Sound Chakra Activation Ceremony
DESCRIPTION:Heathor invites participants to an enriching evening centered a
 round a Cacao &amp\; Sound Chakra Activation Ceremony\, where the elements
  of healing and community come together in a harmonious experience. Attend
 ees will gather to engage in a transformative session filled with drumming
 \, chanting\, and positive energy.\n\nAs the sacred spirit of cacao is sha
 red\, it will serve as a gentle catalyst to open participants' hearts and 
 spirits. This enchanting ceremony will focus on attuning and activating th
 e chakras\, connecting them to the energy of both the Earth and the cosmos
 . The evening will unfold through a blend of guided visualizations and bij
 a seed sounds\, complemented by the resonant vibrations of drums and singi
 ng bowls. This journey will culminate in a deeply immersive sound bath\, s
 pecifically designed to target and heal each chakra\, enhancing their alig
 nment and balance.\n\nCacao\, often misunderstood\, is neither an entheoge
 n nor a hallucinogen\; rather\, it is an empathogen that softly facilitate
 s a deeper connection to one’s authentic self and the natural world. Thr
 ough this experience\, participants are encouraged to embrace the full pot
 ential of the cacao's energy\, allowing for personal exploration and refle
 ction.\n\nCome prepared to dive deep into self-discovery and communal bond
 ing as you unlock new layers of awareness and healing. Join us for this tr
 ansformative event and feel the power of cacao and sound as they work in s
 ynergy to elevate your spirit!\n\nGET TICKETS\n
ATTACH;FMTTYPE=image/jpeg:https://breathelosangeles.us/wp-content/uploads/
 2024/10/Cacao-Sound-Chakra-Activation-Ceremony.jpg
CATEGORIES:Things To Do
LOCATION:Yoga NoHo Center\, 257 Vineland Avenue North Hollywood\, Los Angel
 es\, California\, 91601\, CA\, United States
X-APPLE-STRUCTURED-LOCATION;VALUE=URI;X-ADDRESS=257 Vineland Avenue North H
 ollywood\, Los Angeles\, California\, 91601\, CA\, United States;X-APPLE-R
 ADIUS=100;X-TITLE=Yoga NoHo Center:geo:0,0
END:VEVENT
BEGIN:VTIMEZONE
TZID:America/Los_Angeles
X-LIC-LOCATION:America/Los_Angeles
BEGIN:DAYLIGHT
DTSTART:20240310T030000
TZOFFSETFROM:-0800
TZOFFSETTO:-0700
TZNAME:PDT
END:DAYLIGHT
END:VTIMEZONE
END:VCALENDAR