BEGIN:VCALENDAR
VERSION:2.0
PRODID:-//wp-events-plugin.com//7.2.3.1//EN
BEGIN:VEVENT
UID:23@breathelosangeles.us
DTSTART;TZID=America/Los_Angeles:20240322T090000
DTEND;TZID=America/Los_Angeles:20240322T160000
DTSTAMP:20240911T113830Z
URL:https://breathelosangeles.us/events/cal-state-la-mental-and-behavioral
 -health-conference/
SUMMARY:Cal State LA Mental and Behavioral Health Conference
DESCRIPTION:\n\n\n\n\n\n\n\n\n\n\n\n\n\n\n\n\n\n\n\n\n\n\n\n\nImmerse yours
 elf in a transformative experience at the Cal State LA Mental and Behavior
 al Health Conference\, uniquely designed to provide unwavering support for
  teachers\, counselors\, and service providers. Through the lens of neuro-
 linguistic programming (NLP)\, this conference is meticulously crafted to 
 empower attendees not only to excel in their professional roles but also t
 o cultivate their well-being with precision. Seamlessly blending innovativ
 e strategies and holistic approaches\, the event is a catalyst for enhanci
 ng job performance\, fostering personal growth\, and creating a harmonious
  balance between professional excellence and individual well-being. In thi
 s empowering journey where NLP principles seamlessly weave into the fabric
  of support for those dedicated to shaping the future of education and men
 tal health services.\n\n\n\n\n\n\n\n\n\n\n\n\n\nEvent Information:\n\nEven
 t Name: Cal State LA Mental and Behavioral Health Conference\n\nHosted by:
  Division of Special Education and Counseling\, Cal State LA\n\nEvent Type
 : Conference\n\nDuration: 7 hours\n\nDate and Time: Friday\, March 22\, 9 
 am - 4 pm PDT.\n\nLocation: Golden Eagle Building\, State University Drive
 \, Los Angeles\, CA\, USA\n\nAbout this Event: Immerse yourself in the Cal
  State LA Mental and Behavioral Health Conference\, meticulously crafted b
 y the Division of Special Education and Counseling. This transformative ev
 ent is dedicated to providing essential support for teachers\, counselors\
 , and service providers\, enabling them to excel in their roles while prio
 ritizing their overall well-being. The conference serves as a dynamic plat
 form for learning\, growth\, and fostering a community committed to advanc
 ing mental and behavioral health practices.\n\nTicket Information:\n\nMobi
 le eTicket available\n\nContact the organizer for refund requests.\n\nEven
 tbrite's fee is nonrefundable.\n\nTICKET PRICE: $20 – $120\n\n\n\n\n\nGE
 T TICKETS\n\n\nWorkout Session Detail: While specific workout sessions may
  not be part of the agenda\, the conference offers an enriching experience
  focusing on mental and behavioral health. Attendees can expect engaging s
 essions\, workshops\, and discussions aimed at enhancing well-being and pr
 ofessional effectiveness.\n\nEssentials to Bring: Participants are encoura
 ged to bring any materials necessary for notetaking\, an open mind for lea
 rning\, and a collaborative spirit. Comfortable attire suitable for a conf
 erence setting is recommended.\n\nParking Options: Parking is conveniently
  included in the registration price. Details about the parking location wi
 ll be provided to attendees\, and any specific parking-related inquiries c
 an be addressed by contacting the organizer.\n\nNote: Please check for upd
 ates from the organizer or the event platform for any additional informati
 on or changes.\n\n\n\n\n\n\n\n\n\n\n\n\n
ATTACH;FMTTYPE=image/jpeg:https://breathelosangeles.us/wp-content/uploads/
 2024/03/https___cdn.evbuc_.com_images_688172289_266899424812_1_original.jp
 eg
CATEGORIES:Wellness Events
LOCATION:Golden Eagle Building\, Golden Eagle Building\, State University D
 rive\, Los Angeles\, CA\, USA\, CA\,  USA\,  Los Angeles\, United States
X-APPLE-STRUCTURED-LOCATION;VALUE=URI;X-ADDRESS=Golden Eagle Building\, Sta
 te University Drive\, Los Angeles\, CA\, USA\, CA\,  USA\,  Los Angeles\, 
 United States;X-APPLE-RADIUS=100;X-TITLE=Golden Eagle Building:geo:0,0
END:VEVENT
BEGIN:VTIMEZONE
TZID:America/Los_Angeles
X-LIC-LOCATION:America/Los_Angeles
BEGIN:DAYLIGHT
DTSTART:20240310T030000
TZOFFSETFROM:-0800
TZOFFSETTO:-0700
TZNAME:PDT
END:DAYLIGHT
END:VTIMEZONE
END:VCALENDAR