BEGIN:VCALENDAR
VERSION:2.0
PRODID:-//wp-events-plugin.com//7.2.3.1//EN
BEGIN:VEVENT
UID:793@breathelosangeles.us
DTSTART;TZID=America/Los_Angeles:20241109T123000
DTEND;TZID=America/Los_Angeles:20241109T163000
DTSTAMP:20241021T112207Z
URL:https://breathelosangeles.us/events/calling-all-women-to-the-circle-of
 -healing-wellness/
SUMMARY:Calling all Women to the circle of healing\, & wellness
DESCRIPTION:Join us for a transformative gathering designed specifically fo
 r women seeking healing and wellness. This event features an incredible li
 neup of certified professionals who will guide participants through variou
 s holistic practices aimed at nurturing the body\, mind\, and spirit.\nMee
 t Your Guides:\n\n 	Debbie\, a certified aromatherapist and sound healer\,
  will share her expertise on the healing properties of essential oils and 
 the power of sound in promoting well-being.\n 	Lisa\, a skilled breathwork
  and grounding wound healing coach\, will lead participants in exercises d
 esigned to foster emotional release and inner peace.\n 	Vee\, an experienc
 ed coaching healing circle facilitator\, will create a safe and supportive
  environment for women to share their experiences and find community.\n\nW
 orkshops Offered:\n\n 	Aromatherapy Workshop: Learn how to create your own
  bath salts with Lisa and Debbie\, exploring the therapeutic benefits of e
 ssential oils and how they can enhance your self-care routine.\n 	Perfume-
 Making Workshop: Discover the art of crafting your own signature perfume i
 n a hands-on session led by Debbie and Lisa. Participants will learn about
  blending essential oils to create unique\, personal fragrances.\n\nThis e
 vent provides a unique opportunity for women to come together in a circle 
 of support\, sharing their journeys and gaining insights into holistic pra
 ctices that promote healing. Whether you're looking to explore aromatherap
 y\, connect with like-minded individuals\, or simply take some time for se
 lf-care\, this gathering promises to be a nurturing experience.\n\nJoin us
  and embrace the opportunity to heal\, grow\, and thrive together in a sup
 portive environment. We look forward to welcoming you to this enriching ci
 rcle of wellness!\n\nGET TICKETS\n
ATTACH;FMTTYPE=image/jpeg:https://breathelosangeles.us/wp-content/uploads/
 2024/10/Calling-all-Women-to-the.jpeg
CATEGORIES:Wellness Events
LOCATION:40857 17th St W\, 40857 17th Street \, West Palmdale\, California\
 , 93551\, CA\, United States
X-APPLE-STRUCTURED-LOCATION;VALUE=URI;X-ADDRESS=40857 17th Street \, West P
 almdale\, California\, 93551\, CA\, United States;X-APPLE-RADIUS=100;X-TIT
 LE=40857 17th St W:geo:0,0
END:VEVENT
BEGIN:VTIMEZONE
TZID:America/Los_Angeles
X-LIC-LOCATION:America/Los_Angeles
BEGIN:STANDARD
DTSTART:20241103T010000
TZOFFSETFROM:-0700
TZOFFSETTO:-0800
TZNAME:PST
END:STANDARD
END:VTIMEZONE
END:VCALENDAR