BEGIN:VCALENDAR
VERSION:2.0
PRODID:-//wp-events-plugin.com//7.2.3.1//EN
BEGIN:VEVENT
UID:282@breathelosangeles.us
DTSTART;TZID=America/Los_Angeles:20240615T180000
DTEND;TZID=America/Los_Angeles:20240615T200000
DTSTAMP:20240522T101457Z
URL:https://breathelosangeles.us/events/candlelit-sound-bath-w-sugar-be-cr
 ystal-clear/
SUMMARY:CANDLELIT SOUND BATH w/ SUGAR - Be Crystal Clear
DESCRIPTION:The Sound Healing Center®️ is thrilled to present an enchant
 ing evening of transformation with the "CANDLELIT SOUND BATH w/ SUGAR - Be
  Crystal Clear" event. Hosted by Sugar\, this immersive experience promise
 s to guide participants on a journey of relaxation and inner harmony amids
 t the serene ambiance of Laughing Frog Yoga Studio\, located at 12217 Sant
 a Monica Boulevard #205\, Los Angeles\, CA 90025\, United States.\n\nSched
 uled for SAT June 15\, 2024\, at 6:00 PM\, attendees are invited to partak
 e in this in-person gathering where they can immerse themselves in the soo
 thing vibrations of sound healing. The session aims to help individuals un
 wind\, release stress\, and rejuvenate their spirits\, setting the stage f
 or a tranquil and prosperous week ahead.\n\nTo ensure optimal comfort and 
 relaxation\, participants are encouraged to bring along their own yoga mat
 \, blanket\, pillow\, water\, and eye mask. As part of the serene atmosphe
 re\, shoes are to be left outside\, and chairs won't be provided within th
 e space. It's recommended to arrive at least 15 minutes before the class c
 ommences\, as doors will be locked promptly at 6:05 PM\, allowing everyone
  to fully immerse themselves in the experience without interruption.\n\nGE
 T TICKETS\n
ATTACH;FMTTYPE=image/jpeg:https://breathelosangeles.us/wp-content/uploads/
 2024/05/CANDLELIT-SOUND-BATH-w_SUGAR_Be-Crystal-Clear.jpg
CATEGORIES:Yoga Events
LOCATION:Laughing Frog Yoga\, 12217 Santa Monica Boulevard #205 Los Angeles
 \,\, Los Angeles\, CA\, 90025\, United States
X-APPLE-STRUCTURED-LOCATION;VALUE=URI;X-ADDRESS=12217 Santa Monica Boulevar
 d #205 Los Angeles\,\, Los Angeles\, CA\, 90025\, United States;X-APPLE-RA
 DIUS=100;X-TITLE=Laughing Frog Yoga:geo:0,0
END:VEVENT
BEGIN:VTIMEZONE
TZID:America/Los_Angeles
X-LIC-LOCATION:America/Los_Angeles
BEGIN:DAYLIGHT
DTSTART:20240310T030000
TZOFFSETFROM:-0800
TZOFFSETTO:-0700
TZNAME:PDT
END:DAYLIGHT
END:VTIMEZONE
END:VCALENDAR