BEGIN:VCALENDAR
VERSION:2.0
PRODID:-//wp-events-plugin.com//7.2.3.1//EN
BEGIN:VEVENT
UID:177@breathelosangeles.us
DTSTART;TZID=America/Los_Angeles:20240426T180000
DTEND;TZID=America/Los_Angeles:20240426T185000
DTSTAMP:20240404T143448Z
URL:https://breathelosangeles.us/events/candlelit-yin-yoga-for-balance-and
 -relaxation/
SUMMARY:Candlelit Yin Yoga for Balance and Relaxation
DESCRIPTION:Experience the soothing ambiance of a candlelit yoga flow every
  Friday night with Sofia. Immerse yourself in a gentle\, centered practice
  designed to cultivate relaxation and inner balance.\n\nEvent Information:
 \n\nEvent Name: Candlelit Yin Yoga for Balance and Relaxation\n\nHost: Lib
 erate Yourself\n\nDate and Time: Friday\, April 26\, 6:00 - 6:50pm PDT\n\n
 Location: Liberate Yourself\, 13323 Ventura Blvd\, Sherman Oaks\, CA 91423
 \, United States\n\nAbout this Event: Join Sofia every Friday night for a 
 serene candlelit Yin Yoga session aimed at fostering balance and relaxatio
 n. This practice emphasizes stillness and introspection\, with passive\, l
 onger-held floor poses designed to penetrate deep connective tissues. The 
 class concludes with a peaceful 5-minute Savasana\, facilitating a meditat
 ive state. Physically\, Yin Yoga promotes bodily balance and revitalizatio
 n\, while spiritually\, it enhances interoception\, fostering a deeper con
 nection with one's mind\, body\, and spirit. Please bring your own yoga ma
 t. The suggested donation for this session ranges from $10 to $30.\n\nTick
 et Information: This event operates on a donation-based model\, with a sug
 gested donation range of $10 to $30. Sales end on April 26\, 2024. Fees an
 d taxes will be calculated before placing your order.\n\nGET TICKETS\n\nWo
 rkout Session Detail: The session entails a candlelit Yin Yoga practice fo
 cusing on stillness and deep connective tissue work. Longer-held poses are
  complemented by props such as bolsters and blocks\, concluding with a 5-m
 inute Savasana.\n\nEssential for Participants: Attendees are required to b
 ring their own yoga mat. Additionally\, dressing appropriately for potenti
 al outdoor practice in the covered garden is advised\, as the venue is equ
 ipped with space heaters and blankets.\n\nParking Option: Details about pa
 rking options are not provided in the event description.\n\nRefund Policy:
  No refunds are offered for this event.\n\nAbout Sofia: Sofia is a certifi
 ed Yoga Instructor and Ayurveda Specialist based in Los Angeles\, Californ
 ia. With extensive experience in dance and fitness spanning over a decade\
 , she found her calling in Yoga. Sofia is dedicated to guiding others on t
 heir journey of self-discovery\, sharing her passion for yoga in various f
 orms. Specializing in Yin Yoga\, her classes aim to instill balance and se
 renity amidst life's chaos\, promoting self-care\, self-discovery\, and se
 lf-love.\n\nAbout Liberate Yourself: Liberate Yourself is more than just a
  yoga studio\; it's a community designed for spiritually curious individua
 ls. Offering a diverse range of services\, from yoga classes to psychic re
 adings\, energy healing\, and more\, Liberate Yourself aims to facilitate 
 healing\, transformation\, and empowerment. Explore their full calendar of
  events for an array of wellness offerings beyond yoga sessions. Additiona
 lly\, attendees can indulge in top-of-the-line Infrared Saunas before or a
 fter classes for a holistic wellness experience.
ATTACH;FMTTYPE=image/jpeg:https://breathelosangeles.us/wp-content/uploads/
 2024/03/322323.jpg
CATEGORIES:Wellness Events,Yoga Events
END:VEVENT
BEGIN:VTIMEZONE
TZID:America/Los_Angeles
X-LIC-LOCATION:America/Los_Angeles
BEGIN:DAYLIGHT
DTSTART:20240310T030000
TZOFFSETFROM:-0800
TZOFFSETTO:-0700
TZNAME:PDT
END:DAYLIGHT
END:VTIMEZONE
END:VCALENDAR