BEGIN:VCALENDAR
VERSION:2.0
PRODID:-//wp-events-plugin.com//7.2.3.1//EN
BEGIN:VEVENT
UID:481@breathelosangeles.us
DTSTART;TZID=America/Los_Angeles:20240917T190000
DTEND;TZID=America/Los_Angeles:20240917T203000
DTSTAMP:20240911T075215Z
URL:https://breathelosangeles.us/events/celestial-full-moon-sound-healing-
 journey/
SUMMARY:Celestial Full Moon Sound Healing Journey
DESCRIPTION:Embark on a transformative experience at the Celestial Sound He
 aling Journey on September 17th\, as the Full Moon in Pisces\, amplified b
 y a partial lunar eclipse\, illuminates the night sky. Hosted at the tranq
 uil Nest Hollywood\, this sacred gathering invites participants to align w
 ith nature’s rhythms\, release emotional blockages\, and prepare for the
  energies of the upcoming fall equinox.\n\nSet against the backdrop of stu
 nning mountain views\, the cityscape\, and the iconic Hollywood sign\, thi
 s event creates a space for healing\, spiritual growth\, and deep connecti
 on. The powerful Pisces Full Moon\, with its lunar eclipse\, opens the gat
 eway for profound emotional release and self-discovery\, guiding attendees
  toward their higher purpose. Through this celestial alignment\, participa
 nts can shed limitations and manifest their desires.\n\nThe evening will f
 eature sacred meditations\, chanting\, and immersive sound healing. The he
 aling vibrations of crystal bowls\, gongs\, and other instruments will lea
 d the group into a harmonious balance\, helping participants to recalibrat
 e their energy and experience deep emotional and spiritual renewal.\n\nEve
 nt Highlights Include:\n\n 	Intention Setting Ritual: Align your goals wit
 h the potent cosmic energies and set intentions for the upcoming lunar cyc
 le.\n 	Guided Meditation &amp\; Breathwork: Ground yourself through medita
 tive practices and connect deeply with the celestial energies.\n 	High-Vib
 rational Sound Healing: Immerse in the soothing frequencies of healing ins
 truments\, designed to balance and align your energy field.\n\nJoin this p
 owerful communal gathering and allow the energies of the Full Moon and lun
 ar eclipse to guide you on a journey of healing\, renewal\, and awakening 
 under the celestial skies.\n\nGET TICKETS\n
ATTACH;FMTTYPE=image/jpeg:https://breathelosangeles.us/wp-content/uploads/
 2024/09/Celestial-Full-Moon-Sound-Healing-Journey.jpg
CATEGORIES:Things To Do,Wellness Events
LOCATION:90068\, 90068 Hollywood\, Los Angeles\, California\, 90068\, CA\, 
 United States
X-APPLE-STRUCTURED-LOCATION;VALUE=URI;X-ADDRESS=90068 Hollywood\, Los Angel
 es\, California\, 90068\, CA\, United States;X-APPLE-RADIUS=100;X-TITLE=90
 068:geo:0,0
END:VEVENT
BEGIN:VTIMEZONE
TZID:America/Los_Angeles
X-LIC-LOCATION:America/Los_Angeles
BEGIN:DAYLIGHT
DTSTART:20240310T030000
TZOFFSETFROM:-0800
TZOFFSETTO:-0700
TZNAME:PDT
END:DAYLIGHT
END:VTIMEZONE
END:VCALENDAR