BEGIN:VCALENDAR
VERSION:2.0
PRODID:-//wp-events-plugin.com//7.2.3.1//EN
BEGIN:VEVENT
UID:786@breathelosangeles.us
DTSTART;TZID=America/Los_Angeles:20241120T190000
DTEND;TZID=America/Los_Angeles:20241120T220000
DTSTAMP:20241020T172748Z
URL:https://breathelosangeles.us/events/cocktails-and-mocktails-with-clini
 cians/
SUMMARY:Cocktails and Mocktails with Clinicians
DESCRIPTION:Join us for an engaging and enjoyable event: Cocktails and Mock
 tails with Clinicians! This unique gathering offers a relaxed atmosphere w
 here attendees can connect with healthcare professionals while enjoying de
 licious beverages\, both alcoholic and non-alcoholic.\n\nThis event is des
 igned to create a space for open conversations about health\, wellness\, a
 nd lifestyle choices. Participants will have the opportunity to ask questi
 ons and gain insights from a panel of clinicians who specialize in various
  fields. Whether you're curious about nutrition\, mental health\, fitness\
 , or preventative care\, this is a perfect chance to engage with experts i
 n a fun and informal setting.\n\nGuests can choose from a variety of handc
 rafted cocktails and refreshing mocktails\, all crafted by talented mixolo
 gists. The event encourages mingling and networking\, allowing attendees t
 o share experiences and learn from one another.\n\nWith a focus on fosteri
 ng community and promoting well-being\, Cocktails and Mocktails with Clini
 cians aims to break down barriers between healthcare providers and the pub
 lic\, making health discussions more approachable. It's an excellent oppor
 tunity for individuals seeking guidance on their wellness journey or simpl
 y looking to enjoy a night out with friends while learning more about heal
 th.\n\nMark your calendar and prepare for an evening filled with flavorful
  drinks\, enlightening conversations\, and the chance to connect with clin
 icians dedicated to enhancing community health. Don’t miss out on this r
 efreshing experience that blends fun with valuable health insights!\n\nGET
  TICKETS\n
ATTACH;FMTTYPE=image/jpeg:https://breathelosangeles.us/wp-content/uploads/
 2024/10/Cocktails-and-Mocktails-with-Clinicians.jpeg
CATEGORIES:Wellness Events
LOCATION:8537 Box Springs Mountain Rd\, 8537 Box Springs Mountain Rd  8537 
 Box Springs Mountain Road\, Moreno Valley\, California\, 92557\, CA\, Unit
 ed States
X-APPLE-STRUCTURED-LOCATION;VALUE=URI;X-ADDRESS=8537 Box Springs Mountain R
 d  8537 Box Springs Mountain Road\, Moreno Valley\, California\, 92557\, C
 A\, United States;X-APPLE-RADIUS=100;X-TITLE=8537 Box Springs Mountain Rd:
 geo:0,0
END:VEVENT
BEGIN:VTIMEZONE
TZID:America/Los_Angeles
X-LIC-LOCATION:America/Los_Angeles
BEGIN:STANDARD
DTSTART:20241103T010000
TZOFFSETFROM:-0700
TZOFFSETTO:-0800
TZNAME:PST
END:STANDARD
END:VTIMEZONE
END:VCALENDAR