BEGIN:VCALENDAR
VERSION:2.0
PRODID:-//wp-events-plugin.com//7.2.3.1//EN
BEGIN:VEVENT
UID:86@breathelosangeles.us
DTSTART;TZID=America/Los_Angeles:20240414T100000
DTEND;TZID=America/Los_Angeles:20240414T150000
DTSTAMP:20240321T113032Z
URL:https://breathelosangeles.us/events/colors-a-womens-wellness-link-up-2
 /
SUMMARY:Colors: A Women's Wellness Link Up!
DESCRIPTION:\n\n\n\n\n\n\n\n\n\n\n\n\n\n\n\n\n\n\n\n\nUtilizing Natural Lan
 guage Processing\, the following description encapsulates the essence of t
 he event:\n\n"This wellness gathering is tailored for women seeking to cul
 tivate connections within the Los Angeles community. Whether forging new f
 riendships or strengthening existing bonds\, attendees can anticipate an e
 nriching experience aimed at fostering a sense of belonging and camaraderi
 e."\n\n\n\n\n\n\n\n\n\n\n\n\n\nEvent Information:\n\nEvent Name: Colors: A
  Women's Wellness Link Up!\n\nDate and Time: Sunday\, April 28\, 3:00 PM -
  6:00 PM PDT\n\nLocation: Santa Monica\, Santa Monica\, CA\, United States
 \n\nAbout this Event:\n\nWelcome to Colors: A Women's Wellness Link Up! A 
 Colorful Connection Event 🌈\n\nJoin us for an afternoon dedicated to co
 nnection\, self-care\, and empowerment amidst the serene backdrop of Santa
  Monica. This event celebrates the myriad colors that enrich the lives of 
 women\, fostering a sense of community and belonging.\n\nTicket Informatio
 n:\n\nGeneral Admission: $40.00\n\nFees: $4.52\n\nTotal: $44.52\n\nGET TIC
 KETS\n\n\nWorkout Session Detail:\n\n3:00 PM - 6:00 PM: Colors: A Women's 
 Wellness Link Up! - A gathering for connection\, self-care\, and empowerme
 nt\, featuring captivating conversations and camaraderie.\n\nEssential for
  Bring:\n\nOpen heart and mind to connect with like-minded women\n\nComfor
 table attire for a relaxed and enjoyable experience\n\nParking Option:\n\n
 Parking details will be provided closer to the event date.\n\nImmerse your
 self in an afternoon of celebration\, connection\, and rejuvenation at Col
 ors: A Women's Wellness Link Up! Come as you are\, and leave inspired by t
 he vibrant tapestry of women's lives. See you there on Sunday\, April 28th
 !\n\n\n\n\n\n\n\n\n
ATTACH;FMTTYPE=image/jpeg:https://breathelosangeles.us/wp-content/uploads/
 2024/03/https___cdn.evbuc_.com_images_718701729_422632656551_1_original-1.
 jpeg
CATEGORIES:Wellness Events
LOCATION:Santa Monica\, Santa Monica Santa Monica\, CA United States\, CA \
 , United States\, CA\, United States
X-APPLE-STRUCTURED-LOCATION;VALUE=URI;X-ADDRESS=Santa Monica Santa Monica\,
  CA United States\, CA \, United States\, CA\, United States;X-APPLE-RADIU
 S=100;X-TITLE=Santa Monica:geo:0,0
END:VEVENT
BEGIN:VTIMEZONE
TZID:America/Los_Angeles
X-LIC-LOCATION:America/Los_Angeles
BEGIN:DAYLIGHT
DTSTART:20240310T030000
TZOFFSETFROM:-0800
TZOFFSETTO:-0700
TZNAME:PDT
END:DAYLIGHT
END:VTIMEZONE
END:VCALENDAR