BEGIN:VCALENDAR
VERSION:2.0
PRODID:-//wp-events-plugin.com//7.2.3.1//EN
BEGIN:VEVENT
UID:271@breathelosangeles.us
DTSTART;TZID=America/Los_Angeles:20240518T140000
DTEND;TZID=America/Los_Angeles:20240518T160000
DTSTAMP:20240507T191729Z
URL:https://breathelosangeles.us/events/conference-by-women-mastering-life
 /
SUMMARY:The 2024 Alignment Conference by Women Mastering Life
DESCRIPTION:\nIgnite Your Spark: Women Mastering Life's 2024 Alignment Conf
 erence!\nEmpower Yourself &amp\; Embrace Holistic Wellness at Mental Healt
 h Awareness Month's Signature Event!\nJoin Women Mastering Life for the in
 spiring 2024 Alignment Conference\, a celebration of holistic well-being d
 uring Mental Health Awareness Month. This enriching experience delves deep
  into nurturing your mind\, revitalizing your body\, and nourishing your s
 oul.\nA Journey of Growth &amp\; Transformation:\n\n\n 	Expert-Led Inspira
 tion: Renowned mental health specialists\, wellness gurus\, and spiritual 
 leaders share their wisdom through dynamic sessions designed to ignite you
 r inner spark and propel you towards your fullest potential.\n 	Comfy &amp
 \; Connected: Come dressed in comfortable attire and embrace a supportive\
 , positive atmosphere. Meaningful conversations and lasting friendships fl
 ourish in this welcoming environment.\n 	Rejuvenating Ambiance: Immerse yo
 urself in a tranquil and serene setting that fosters relaxation and reflec
 tion. Every corner exudes a calming "chill vibe" perfect for rejuvenation.
 \n 	Empowering Marketplace: Explore a curated marketplace featuring handpi
 cked vendors offering products and services designed to enhance your well-
 being journey.\n\nThe Power of Connection:\n\n\n 	Forge Lasting Bonds: Con
 nect with other remarkable women who share your passion for growth and emp
 owerment.\n 	Empowering Conversations: Engage in meaningful discussions an
 d share your stories in a supportive and uplifting environment.\n\nMore th
 an Just a Conference:\nThe Alignment Conference goes beyond informative se
 ssions. It's a transformative experience that empowers you to connect with
  your true purpose and live a more fulfilling life.\nJoin the Movement:\nB
 e part of a community dedicated to self-discovery and holistic well-being.
  Together\, we can ignite the flames of positivity and embark on a transfo
 rmative journey towards alignment and fulfillment.\nHashtags:\n#AlignmentC
 onference #WomenMasteringLife #HolisticWellness #MentalHealthAwareness #Em
 powerment #Community\n\n\n\nBUY TICKETS\n
ATTACH;FMTTYPE=image/jpeg:https://breathelosangeles.us/wp-content/uploads/
 2024/05/https___cdn.evbuc_.com_images_741509399_1909919862513_1_original.j
 peg
CATEGORIES:Wellness Events
LOCATION:660 Venice Blvd.\, 660 Venice Boulevard\, Los Angeles\, California
 \, 90291\, United States
X-APPLE-STRUCTURED-LOCATION;VALUE=URI;X-ADDRESS=660 Venice Boulevard\, Los 
 Angeles\, California\, 90291\, United States;X-APPLE-RADIUS=100;X-TITLE=66
 0 Venice Blvd.:geo:0,0
END:VEVENT
BEGIN:VTIMEZONE
TZID:America/Los_Angeles
X-LIC-LOCATION:America/Los_Angeles
BEGIN:DAYLIGHT
DTSTART:20240310T030000
TZOFFSETFROM:-0800
TZOFFSETTO:-0700
TZNAME:PDT
END:DAYLIGHT
END:VTIMEZONE
END:VCALENDAR