BEGIN:VCALENDAR
VERSION:2.0
PRODID:-//wp-events-plugin.com//7.2.3.1//EN
BEGIN:VEVENT
UID:937@breathelosangeles.us
DTSTART;TZID=America/Los_Angeles:20250412T110000
DTEND;TZID=America/Los_Angeles:20250412T150000
DTSTAMP:20250226T174344Z
URL:https://breathelosangeles.us/events/corporeal-reformation-butoh-explor
 ations-and-body-as-phenomenon-workshop/
SUMMARY:Corporeal Reformation: Butoh Explorations and Body as Phenomenon (W
 orkshop)
DESCRIPTION:This transformative workshop\, titled "Corporeal Reformation\,"
  invites participants to explore the body's deep and spiritual need for re
 organization and re-shifting. The term "corporeal reformation" signifies a
  profound process of remembering the inherent connection between the body 
 and well-being\, acknowledging that this journey is ongoing and ever-evolv
 ing. In this workshop\, participants will engage in grounding stances\, po
 etic dance notation (Butoh-fu)\, improvisational image-making\, and discov
 er the body as a phenomenon\, utilizing Butoh\, an avant-garde dance form 
 born in post-WWII Japan. Butoh is a rebellion against Western beauty stand
 ards\, focusing on controlled movements that embrace imperfection\, often 
 drawing inspiration from nature and the earth's gravitational pull.\nAbout
  the Facilitator:\nThe workshop is led by artist Josie J (also known as di
 vinebrick)\, a self-described iconoclast and seeker of the sacred primordi
 al being. Josie J's name represents the decolonization of the self and the
  remembrance of one's connection to the soil and the earth. Josie J has st
 udied Butoh dance with Koichi and Hiroko Tamano\, Butoh masters\, as well 
 as with influential dancer Oguri in Venice\, CA. Additionally\, Josie J ha
 s practiced Gung Fu and Tai Chi under the guidance of the late Sifu James 
 Ibrao. Josie J's work combines movement\, sound\, visual arts\, and perfor
 mance to delve into the subconscious\, textures\, tones\, and subtle sensa
 tions of human nature and the natural world.\nThis workshop is a unique op
 portunity for participants to reconnect with their bodies\, engage in soma
 tic exploration\, and open themselves to the deep\, ancestral wisdom embed
 ded in the body’s movement.\nImportant Information:\n\n\n 	Date and Time
 : Please check the schedule for the upcoming session.\n 	Ticket Pricing: $
 25 - $35 (sliding scale). Community spots are available for those affected
  by the fire\; email events@prs.org for RSVP.\n 	Parking: Free parking is 
 available on-site at PRS\, and street parking is also available.\n\nRefund
  Policy: All sales are final\, except in the case of medical emergencies (
 e.g.\, COVID-19). If the event is canceled\, refunds or vouchers for a res
 cheduled event will be provided.\nAccessibility: PRS aims to make its even
 ts accessible to all. If accommodations are needed\, please contact events
 @prs.org prior to the event.\nWaiver and Release: By attending\, participa
 nts acknowledge and accept the risks involved in this workshop\, which may
  include physical activity\, meditation\, and breathwork. Participants are
  responsible for their own health and safety during the session.\n\n\nGET 
 TICKETS\n
ATTACH;FMTTYPE=image/jpeg:https://breathelosangeles.us/wp-content/uploads/
 2025/02/Corporeal-Reformation.avif
CATEGORIES:Wellness Events
LOCATION:Philosophical Research Society\, 3910 Los Feliz Boulevard\, Los An
 geles\, California\, 90027\, United States
X-APPLE-STRUCTURED-LOCATION;VALUE=URI;X-ADDRESS=3910 Los Feliz Boulevard\, 
 Los Angeles\, California\, 90027\, United States;X-APPLE-RADIUS=100;X-TITL
 E=Philosophical Research Society:geo:0,0
END:VEVENT
BEGIN:VTIMEZONE
TZID:America/Los_Angeles
X-LIC-LOCATION:America/Los_Angeles
BEGIN:DAYLIGHT
DTSTART:20250309T030000
TZOFFSETFROM:-0800
TZOFFSETTO:-0700
TZNAME:PDT
END:DAYLIGHT
END:VTIMEZONE
END:VCALENDAR