BEGIN:VCALENDAR
VERSION:2.0
PRODID:-//wp-events-plugin.com//7.2.3.1//EN
BEGIN:VEVENT
UID:220@breathelosangeles.us
DTSTART;TZID=America/Los_Angeles:20240614T090000
DTEND;TZID=America/Los_Angeles:20240614T170000
DTSTAMP:20240427T222835Z
URL:https://breathelosangeles.us/events/county-arts-and-health-week-summit
 -2/
SUMMARY:2024 Los Angeles County Arts and Health Week Summit
DESCRIPTION:\nLA Opera Hosts Groundbreaking Summit: Exploring Arts &amp\; H
 ealing\nMark your calendars! LA Opera is teaming up with a powerhouse grou
 p of collaborators – including LA County Supervisor Hilda L. Solis\, the
  Los Angeles County Department of Arts and Culture\, Healing Arts (an init
 iative of the Jameel Arts &amp\; Health Lab)\, and the World Health Organi
 zation – to present a groundbreaking summit focused on the transformativ
 e power of arts in healthcare.\nThis unique event transcends the tradition
 al conference format. Prepare for a dynamic experience filled with engagin
 g conversations\, participatory activities\, and innovative approaches to 
 well-being.\nThe prestigious Dorothy Chandler Pavilion sets the stage for 
 this gathering of minds. Thought leaders from diverse backgrounds – arti
 sts\, medical professionals\, policymakers\, researchers\, and more – wi
 ll come together to explore the expanding role of arts in promoting health
  and well-being\, with a particular focus on creating equitable access to 
 these benefits.\nGet ready to be inspired! Joining the esteemed panel is t
 he acclaimed soprano Renée Fleming – Special Projects Advisor for LA Op
 era and the World Health Organization's Goodwill Ambassador for Arts and H
 ealth – alongside other prominent advocates for the integration of arts 
 into healthcare settings.\nHere's what you can expect:\n\n\n 	Cross-Pollin
 ation of Ideas: Engage in stimulating discussions that bridge the gap betw
 een the arts and healthcare. Explore the potential of arts to positively i
 mpact mental\, emotional\, and physical well-being.\n 	Interactive Experie
 nces: Go beyond theory and actively participate in workshops and activitie
 s that showcase the transformative power of artistic expression in promoti
 ng health.\n 	A Collaborative Approach: Witness the power of collaboration
  as leading figures from diverse fields come together to develop innovativ
 e solutions for equitable access to arts-based wellness programs.\n 	Inspi
 ring Advocacy: Be moved by the passion of renowned advocates like Renée F
 leming who are championing the integration of arts into healthcare for a h
 ealthier and more fulfilling future for all.\n\nThis summit is a beacon of
  hope\, highlighting the profound impact that arts can have on our well-be
 ing. Join this groundbreaking event and become part of a movement that is 
 reshaping healthcare through the power of creativity.\nDon't miss this opp
 ortunity to witness the future of healthcare – where art and science con
 verge to create a world of health and well-being for all.\n\n\n\nBOOK SPOT
 S\n
ATTACH;FMTTYPE=image/jpeg:https://breathelosangeles.us/wp-content/uploads/
 2024/04/https___cdn.evbuc_.com_images_713306259_334951325755_1_original.jp
 eg
CATEGORIES:Featured Events,Things To Do,Wellness Events
LOCATION:Dorothy Chandler Pavilion\, 135 North Grand Avenue Los Angeles\, C
 A 90012 United States\, CA\, United States\, 90012\, CA\, United States
X-APPLE-STRUCTURED-LOCATION;VALUE=URI;X-ADDRESS=135 North Grand Avenue Los 
 Angeles\, CA 90012 United States\, CA\, United States\, 90012\, CA\, Unite
 d States;X-APPLE-RADIUS=100;X-TITLE=Dorothy Chandler Pavilion:geo:0,0
END:VEVENT
BEGIN:VTIMEZONE
TZID:America/Los_Angeles
X-LIC-LOCATION:America/Los_Angeles
BEGIN:DAYLIGHT
DTSTART:20240310T030000
TZOFFSETFROM:-0800
TZOFFSETTO:-0700
TZNAME:PDT
END:DAYLIGHT
END:VTIMEZONE
END:VCALENDAR