BEGIN:VCALENDAR
VERSION:2.0
PRODID:-//wp-events-plugin.com//7.2.3.1//EN
BEGIN:VEVENT
UID:68@breathelosangeles.us
DTSTART;TZID=America/Los_Angeles:20240407T140000
DTEND;TZID=America/Los_Angeles:20240407T160000
DTSTAMP:20240313T194901Z
URL:https://breathelosangeles.us/events/create-your-own-clean-cosmetics/
SUMMARY:Beauty Lab: Create Your Own Clean Cosmetics
DESCRIPTION:\nDIY Clean Beauty: Create Your Own Cosmetics at Wish Wellness 
 Lab!\nCalling all beauty aficionados and eco-conscious consumers! Wish Wel
 lness invites you to unleash your inner alchemist at the Beauty Lab: Creat
 ing Clean Cosmetics workshop on Sunday\, April 7th\, 2024\, at FairPark St
 udios. This engaging and informative event\, priced at $45 per person\, te
 aches you how to craft your own natural and chemical-free beauty products 
 using sustainable practices.\nEmbrace the Power of Natural Ingredients:\nD
 itch the store-bought products laden with harsh chemicals and artificial i
 ngredients. In this hands-on workshop\, you'll discover the wonders of org
 anic ingredients and sustainable practices in crafting your own clean cosm
 etics.\nBecome a DIY Beauty Expert:\nUnder the guidance of knowledgeable i
 nstructors\, you'll gain the skills to create a personalized and effective
  beauty routine. This workshop equips you to make a variety of clean beaut
 y products\, including:\n\n\n 	Luxurious Facial Lotion (2oz): Learn how to
  formulate a gentle and nourishing lotion that hydrates and protects your 
 skin.\n 	Refreshing Cleanser (2oz): Craft a cleanser that removes impuriti
 es without stripping your skin of its natural oils.\n 	Aromatherapy Deligh
 t (choose one): Create either a revitalizing aromatherapy mist (2oz) or a 
 convenient roll-on (10ml) infused with your favorite essential oils.\n\nPe
 rfect for All Ages and Interests:\nThis workshop is a fantastic opportunit
 y for moms and tweens to bond over a fun and educational experience. It's 
 also open to anyone looking to take control of their beauty routine and em
 brace a more natural approach.\nMore Than Just a Workshop:\nLeave the work
 shop feeling empowered and equipped! You'll walk away with three of your v
 ery own handcrafted beauty products\, ready to integrate into your daily r
 outine. Not only will you experience the satisfaction of creating your own
  clean cosmetics\, but you'll also gain valuable knowledge about the benef
 its of using natural ingredients for your skin and the environment.\nEmbra
 ce Clean Beauty:\nJoin the Wish Wellness Beauty Lab: Creating Clean Cosmet
 ics workshop and embark on a journey towards a natural\, sustainable\, and
  personalized approach to beauty. Reserve your spot today and start crafti
 ng your own radiant future!\n\n\n\nGET TICKETS\n
ATTACH;FMTTYPE=image/jpeg:https://breathelosangeles.us/wp-content/uploads/
 2024/03/https___cdn.evbuc_.com_images_705863019_2029385388073_1_original.j
 peg
CATEGORIES:Wellness Events
LOCATION:FairPark Studios\, 2246 Fair Park Avenue \, Los Angeles\, Californ
 ia\, 90041\, United States
X-APPLE-STRUCTURED-LOCATION;VALUE=URI;X-ADDRESS=2246 Fair Park Avenue \, Lo
 s Angeles\, California\, 90041\, United States;X-APPLE-RADIUS=100;X-TITLE=
 FairPark Studios:geo:0,0
END:VEVENT
BEGIN:VTIMEZONE
TZID:America/Los_Angeles
X-LIC-LOCATION:America/Los_Angeles
BEGIN:DAYLIGHT
DTSTART:20240310T030000
TZOFFSETFROM:-0800
TZOFFSETTO:-0700
TZNAME:PDT
END:DAYLIGHT
END:VTIMEZONE
END:VCALENDAR