BEGIN:VCALENDAR
VERSION:2.0
PRODID:-//wp-events-plugin.com//7.2.3.1//EN
BEGIN:VEVENT
UID:47@breathelosangeles.us
DTSTART;TZID=America/Los_Angeles:20240329T173000
DTEND;TZID=America/Los_Angeles:20240329T190000
DTSTAMP:20240323T110501Z
URL:https://breathelosangeles.us/events/culinary-medicine-and-integrative-
 nutrition-classes-w-dr-desmonette-hazly/
SUMMARY:Culinary Medicine and Integrative Nutrition Classes w/ Dr. Desmonet
 te Hazly
DESCRIPTION:\n\n\n\n\n\n\n\n\n\n\n\n\nExplore the art of harnessing everyda
 y ingredients\, like the vibrant palette of herbs and spices\, to unlock t
 he secrets of promoting holistic mind-body health and wellness. Delve into
  the realm of culinary medicine and discover how the simplest elements in 
 your kitchen can become powerful agents for nurturing both your body and m
 ind. A  journey where the essence of well-being is cultivated through the
  flavors and aromas of nature's gifts\, unraveling the transformative pote
 ntial within your daily culinary choices.\n\nEvent Information:\n\nEvent N
 ame: Culinary Medicine and Integrative Nutrition Classes w/ Dr. Desmonette
  Hazly\n\nHosted By: Children's Institute\n\nDate and Time:\n\nDate: Frida
 y\, March 29\n\nTime: 5:30 - 7 pm PDT\n\nLocation:\n\nVenue: CII Watts Cam
 pus\n\nAddress: 10200 Success Ave. Los Angeles\, CA 90002\, United States\
 n\nAbout This Event: In this unique culinary medicine workshop\, participa
 nts will enjoy a delightful dinner in a restaurant-style setup while learn
 ing the importance of integrating healthy recipes to promote mind-body hea
 lth and wellness.\n\nTicket Information:\n\nTicket Price: FREE\n\n\n\nGET 
 TICKETS\n\nWorkout Session Detail:This event does not explicitly mention a
  workout session. However\, it focuses on the integration of healthy recip
 es and the promotion of mind-body health.\n\nEssential for Bring:\n\nThe d
 etails about items to bring are not explicitly provided. Participants are 
 encouraged to attend the culinary medicine workshop with an open mind and 
 readiness to learn.\n\nThis event\, hosted by the Children's Institute\, o
 ffers an engaging opportunity to explore the connection between culinary p
 ractices and health under the guidance of Dr. Desmonette Hazly. The event 
 is scheduled for Friday\, March 29\, from 5:30 to 7 pm PDT at the CII Watt
 s Campus in Los Angeles\, CA. Admission is free\, and attendees will enjoy
  a restaurant-style dinner while gaining insights into the significance of
  incorporating healthy recipes for overall well-being.\n\n\n\n\n\n\n\n\n\n
 \n\n\n\n\n
END:VEVENT
BEGIN:VTIMEZONE
TZID:America/Los_Angeles
X-LIC-LOCATION:America/Los_Angeles
BEGIN:DAYLIGHT
DTSTART:20240310T030000
TZOFFSETFROM:-0800
TZOFFSETTO:-0700
TZNAME:PDT
END:DAYLIGHT
END:VTIMEZONE
END:VCALENDAR