BEGIN:VCALENDAR
VERSION:2.0
PRODID:-//wp-events-plugin.com//7.2.3.1//EN
BEGIN:VEVENT
UID:430@breathelosangeles.us
DTSTART;TZID=America/Los_Angeles;VALUE=DATE:20240921
DTEND;TZID=America/Los_Angeles;VALUE=DATE:20240922
DTSTAMP:20240831T082736Z
URL:https://breathelosangeles.us/events/dark-harbor/
SUMMARY:Dark Harbor
DESCRIPTION:For a spine-chilling experience that sails above the ordinary\,
  Dark Harbor offers a unique twist on haunted attractions by taking place 
 on a massive\, eerie ship. Returning for the first time since 2019\, this 
 event promises a night of thrills with its signature elements of fog\, lab
 yrinthine mazes\, and a multitude of terrifying monsters.\n\nWhat sets Dar
 k Harbor apart is its masterful integration of its haunting venue\, the Qu
 een Mary. The ship's naturally dark and confined spaces already contribute
  to an unsettling atmosphere\, amplifying the horror as guests navigate it
 s narrow passageways and numerous staircases. The 2024 edition of Dark Har
 bor delves even deeper into the ship’s ghostly lore with new and unsettl
 ing experiences set in areas such as the swimming pool\, kitchen\, engine 
 room\, and staterooms.\n\nPrepare for a hauntingly immersive adventure whe
 re the ship’s historical and atmospheric qualities enhance the terror. D
 ark Harbor is not just a haunted house\; it’s a full-fledged exploration
  of a legendary vessel\, promising a night of fear and fascination within 
 the shadowy depths of the Queen Mary.\n\nGET TICKETS\n
ATTACH;FMTTYPE=image/jpeg:https://breathelosangeles.us/wp-content/uploads/
 2024/08/Dark-Harbor.webp
CATEGORIES:Things To Do
LOCATION:Queen Mary\, 1126 Queens Hwy Long Beach\, Los Angeles\, California
 \, 90802\, CA\, United States
X-APPLE-STRUCTURED-LOCATION;VALUE=URI;X-ADDRESS=1126 Queens Hwy Long Beach\
 , Los Angeles\, California\, 90802\, CA\, United States;X-APPLE-RADIUS=100
 ;X-TITLE=Queen Mary:geo:0,0
END:VEVENT
BEGIN:VTIMEZONE
TZID:America/Los_Angeles
X-LIC-LOCATION:America/Los_Angeles
BEGIN:DAYLIGHT
DTSTART:20240310T030000
TZOFFSETFROM:-0800
TZOFFSETTO:-0700
TZNAME:PDT
END:DAYLIGHT
END:VTIMEZONE
END:VCALENDAR