BEGIN:VCALENDAR
VERSION:2.0
PRODID:-//wp-events-plugin.com//7.2.3.1//EN
BEGIN:VEVENT
UID:1041@breathelosangeles.us
DTSTART;TZID=America/Los_Angeles:20251204T180000
DTEND;TZID=America/Los_Angeles:20251204T220000
DTSTAMP:20251112T155322Z
URL:https://breathelosangeles.us/events/dtla-art-walk/
SUMMARY:DTLA Art Walk
DESCRIPTION:What to Expect?\nDTLA Art Walk is a cultural gathering &amp\; a
 rtwalk\, organized monthly on first Thursdays\, where over 30 galleries an
 d businesses collaborate with a wide array of art and activations.\nHours:
  6pm-10 pm (some galleries operate different hours)\n\nLocation: Our map 
 covers over 25 blocks with 20 plus participating galleries and businesses.
  Suggested starting point is:\n\nEmerging Gallery\n\n125 W. 4th St. Los An
 geles\, CA 90013\nLearn More\n\n\n\n&nbsp\;\n\n\n\n\n\n\n\n\n\n\nView this
  post on Instagram\n\n\n\n\n\n\n\n\n\n\n\n\n\n\n\n\n\n\n\n\n\n\n&nbsp\;\nA
  post shared by DTLA ArtNight (@dtlaartnight)\n\n\n\nDTLA Artnight was la
 unched by Happening In DTLA\, and looks to help revitalize Downtown Los An
 geles through culture and connection.\nThe opening reception each month is
  the first Thursday of the month from 6PM - 10PM.\nMission\nOur goal is to
  bring life back to the Historic Core and Downtown Los Angeles. By creatin
 g a walking tour of the Historic Core\, our event brings revenue to the lo
 cal bars\, restaurants\, galleries\, and retail while culturally connectin
 g not only the downtown Los Angeles community\, but the greater Los Angele
 s population. We are focused on rejuvenating our beloved DTLA.
ATTACH;FMTTYPE=image/jpeg:https://breathelosangeles.us/wp-content/uploads/
 2025/11/DTLA_Art_Walk_Dec-4_2025.jpg
CATEGORIES:Art,Featured Events
LOCATION:Emerging gallery\, 125 East 4th Street\, Los Angeles\, California\
 , 90013\, CA \, United States
X-APPLE-STRUCTURED-LOCATION;VALUE=URI;X-ADDRESS=125 East 4th Street\, Los A
 ngeles\, California\, 90013\, CA \, United States;X-APPLE-RADIUS=100;X-TIT
 LE=Emerging gallery:geo:0,0
END:VEVENT
BEGIN:VTIMEZONE
TZID:America/Los_Angeles
X-LIC-LOCATION:America/Los_Angeles
BEGIN:STANDARD
DTSTART:20251102T010000
TZOFFSETFROM:-0700
TZOFFSETTO:-0800
TZNAME:PST
END:STANDARD
END:VTIMEZONE
END:VCALENDAR